BEGIN:VCALENDAR
VERSION:2.0
PRODID:-//Save Tarrant Water - ECPv5.2.0//NONSGML v1.0//EN
CALSCALE:GREGORIAN
METHOD:PUBLISH
X-WR-CALNAME:Save Tarrant Water
X-ORIGINAL-URL:https://savetarrantwater.com
X-WR-CALDESC:Events for Save Tarrant Water
BEGIN:VTIMEZONE
TZID:America/Chicago
BEGIN:DAYLIGHT
TZOFFSETFROM:-0600
TZOFFSETTO:-0500
TZNAME:CDT
DTSTART:20230312T080000
END:DAYLIGHT
BEGIN:STANDARD
TZOFFSETFROM:-0500
TZOFFSETTO:-0600
TZNAME:CST
DTSTART:20231105T070000
END:STANDARD
END:VTIMEZONE
BEGIN:VEVENT
DTSTART;TZID=America/Chicago:20231202T080000
DTEND;TZID=America/Chicago:20231209T170000
DTSTAMP:20260422T222610
CREATED:20231025T163621Z
LAST-MODIFIED:20231025T163621Z
UID:7104-1701504000-1702141200@savetarrantwater.com
SUMMARY:Pruning and Tool Maintenance
DESCRIPTION:Tidy up your winter garden by learning how to prune! \n  \nFree! Register here: https://TxPruning.eventbrite.com \n\nThere may not be many plants growing during the winter\, but there are still plenty of thing to do in your garden. You can do preparatory work like pruning and tool maintenance during the winter to be ready for spring. Join our free class to learn more. \nLearn: \n\nWhen and why to prune\nWhich plants to prune\nProper techniques for pruning different plants\nTools needed for a successful garden\nHow to maintain gardening tools to get the best job out of them\n\nThis is a free online on-demand event. Register to receive information on how to participate.  \nThe class will be 45 minutes long and taught by a Tarrant County Master Gardener. \n  \nThis event is brought to you by Mansfield Water Utilities and Tarrant Regional Water District.
URL:https://savetarrantwater.com/event/pruning-and-tool-maintenance/
LOCATION:Online
ATTACH;FMTTYPE=image/png:https://savetarrantwater.com/wp-content/uploads/2023/09/12.2.2023-Pruning-and-Tool-Maintenance-Mansfield-SM-1.png
END:VEVENT
BEGIN:VEVENT
DTSTART;TZID=America/Chicago:20231207T180000
DTEND;TZID=America/Chicago:20231207T190000
DTSTAMP:20260422T222610
CREATED:20231025T163905Z
LAST-MODIFIED:20231025T163905Z
UID:7106-1701972000-1701975600@savetarrantwater.com
SUMMARY:Winter Garden Prep
DESCRIPTION:Get ready for this coming spring by prepping your winter garden! \nJoin our free class to learn how! \nFree! Register here: https://wintergardenprep.eventbrite.com \nWinter may be cold\, but there are still plenty of things to do in the garden. Whether you want to grow winter friendly plants or just prepare your garden for spring\, this class is for you. \nLearn about \n\nMaintenance needed for any garden over the winter\nOrnamental plants\, herbs\, and veggies that can be grown in Texas winters\nProtecting your soil and plants from harsh cold weather\nProviding cover for local wildlife with your winter garden\nPrepping your garden for spring\n\n  \nThis is a free online event. Register to receive information on how to participate. \nAfter registering\, check your email for instructions on how to join the live event. \n  \nThis event is brought to you by Tarrant Regional Water District.
URL:https://savetarrantwater.com/event/winter-garden-prep/
LOCATION:Online
ATTACH;FMTTYPE=image/png:https://savetarrantwater.com/wp-content/uploads/2023/10/12.7.2023-Winter-Garden-Prep-SM.png
END:VEVENT
BEGIN:VEVENT
DTSTART;TZID=America/Chicago:20231209T183000
DTEND;TZID=America/Chicago:20231209T193000
DTSTAMP:20260422T222610
CREATED:20231025T164105Z
LAST-MODIFIED:20231025T164105Z
UID:7109-1702146600-1702150200@savetarrantwater.com
SUMMARY:Pruning and Tool Maintenance
DESCRIPTION:Tidy up your winter garden by learning how to prune! \nFree! Register here: https://ARLPruning.eventbrite.com \nThere may not be many plants growing during the winter\, but there are still plenty of thing to do in your garden. You can do preparatory work like pruning and tool maintenance during the winter to be ready for spring. Join our free class to learn more. \nLearn: \n\nWhen and why to prune\nWhich plants to prune\nProper techniques for pruning different plants\nTools needed for a successful garden\nHow to maintain gardening tools to get the best job out of them\n\nThe class will be 45 minutes long. \n  \nThis event is brought to you by Arlington Water Utilities and Tarrant Regional Water District.
URL:https://savetarrantwater.com/event/pruning-and-tool-maintenance-2/
LOCATION:Arlington Downtown Library\, 100 S Center St\, Arlington\, TX\, 76010\, United States
ATTACH;FMTTYPE=image/png:https://savetarrantwater.com/wp-content/uploads/2023/09/12.9.2023-Pruning-and-Tool-Maintenance-Arlington-SM.png
END:VEVENT
BEGIN:VEVENT
DTSTART;TZID=America/Chicago:20231214T180000
DTEND;TZID=America/Chicago:20231214T190000
DTSTAMP:20260422T222610
CREATED:20231025T164326Z
LAST-MODIFIED:20231025T164326Z
UID:7111-1702576800-1702580400@savetarrantwater.com
SUMMARY:Landscape Design Basics
DESCRIPTION:Create a lush Texas yard by designing your landscape with smart choices and efficiency in mind! \nJoin our free online class to learn how! https://landscape_basics.eventbrite.com \nThe climate in North Texas can be harsh\, but healthy home landscapes can be created using the right plants and design principles. Whether you want a traditional suburban yard or an extravagant butterfly garden\, using native Texas plants and resource conscious design principles can help you get the best yard on the block without too much effort. \nLearn about: \n\nThe basic principles of landscape design\nHow to take into account the needs and characteristics of your landscape\nThe best types of plants to plant for various situations\nHow to maintain your landscape and prune plants\nPlants that need less water and maintenance\n\nThis is a free online event. Register to receive information on how to participate.  \nThe class will be 1 hour long and taught by a Tarrant County Master Gardener. \nAfter registering\, check your email for instructions on how to join the live event. \n  \nThis event is brought to you by North Richland Hills and Tarrant Regional Water District.
URL:https://savetarrantwater.com/event/landscape-design-basics-3/
LOCATION:Online
ATTACH;FMTTYPE=image/png:https://savetarrantwater.com/wp-content/uploads/2023/09/12.14.2023-Landscape-Design-Basics-NRH-SM.png
END:VEVENT
END:VCALENDAR