BEGIN:VCALENDAR
VERSION:2.0
PRODID:-//Save Tarrant Water - ECPv5.2.0//NONSGML v1.0//EN
CALSCALE:GREGORIAN
METHOD:PUBLISH
X-WR-CALNAME:Save Tarrant Water
X-ORIGINAL-URL:https://savetarrantwater.com
X-WR-CALDESC:Events for Save Tarrant Water
BEGIN:VTIMEZONE
TZID:America/Chicago
BEGIN:DAYLIGHT
TZOFFSETFROM:-0600
TZOFFSETTO:-0500
TZNAME:CDT
DTSTART:20230312T080000
END:DAYLIGHT
BEGIN:STANDARD
TZOFFSETFROM:-0500
TZOFFSETTO:-0600
TZNAME:CST
DTSTART:20231105T070000
END:STANDARD
END:VTIMEZONE
BEGIN:VEVENT
DTSTART;TZID=America/Chicago:20231005T173000
DTEND;TZID=America/Chicago:20231005T183000
DTSTAMP:20260423T010531
CREATED:20230915T204243Z
LAST-MODIFIED:20230915T204243Z
UID:6423-1696527000-1696530600@savetarrantwater.com
SUMMARY:Critter Capers: Wildlife in the Landscape
DESCRIPTION:In search of attracting local wildlife to your landscape? \nJoin our free class to learn how! \nLearn about the best plants to plant and features to install to attract all sorts of local critters such as butterflies\, bees\, and birds to your North Texas yard. \nLearn about: \n\nThe types of plants to plant to attract the type of wildlife you want\nThe types of features to add to attract the type of wildlife you want\nHow to design a wildscape\nHow to find the correct plants for North Texas\nCreating an efficient\, low resource use garden\nSoil amendments and site prep\nLong term wildscape maintenance\n\nGet ideas and inspiration to create an outstanding feature in your North Texas yard!
URL:https://savetarrantwater.com/event/critter-capers-wildlife-in-the-landscape/
LOCATION:North Richland Hills Library\, 9015 Grand Ave\, North Richland Hills\, TX\, 76180\, United States
ATTACH;FMTTYPE=image/png:https://savetarrantwater.com/wp-content/uploads/2023/09/10.5.2023-Critter-Capers-NRH-SM.png
END:VEVENT
BEGIN:VEVENT
DTSTART;TZID=America/Chicago:20231007T100000
DTEND;TZID=America/Chicago:20231007T120000
DTSTAMP:20260423T010531
CREATED:20230915T204714Z
LAST-MODIFIED:20230915T204714Z
UID:6448-1696672800-1696680000@savetarrantwater.com
SUMMARY:DIY Rainwater Harvesting - Crowley
DESCRIPTION:Capture water while it is raining this fall to use on your landscape later! \nJoin our workshop to learn how\, then build your own rain barrel to take home! \nhttps://Crowley_Rain.eventbrite.com \nRainwater harvesting is great for North Texas because you can keep some of the rain we get during the spring and fall to use during our hot and dry summers. Even a small roof area can produce a usable amount of water during an average rainfall. From huge cisterns to small DIY barrels\, capturing rainwater can be done by anyone. Attend this workshop to learn the ins and outs of rainwater harvesting and purchase a discounted barrel to take home! \nLearn about: \n\nHow much water your roof will produce in a year\nWhere to put your rain barrel to capture the most water\nHow to install a barrel\nHow to hook up and use your new water source\nHow to build your own 50 gallon rain barrel with just a few supplies from the hardware store\n\nThis Workshop is for Crowley\, Texas Residents Only. \nThis workshop is in-person and includes a class about rainwater harvesting basics and a demonstration on how to build a barrel. After the class portion\, you will get to build their own rain barrel to take home. This is an educational opportunity and class attendance is required to get a barrel. \nMore info on the registration page. \nhttps://Crowley_Rain.eventbrite.com
URL:https://savetarrantwater.com/event/diy-rainwater-harvesting-crowley-3/
LOCATION:Crowley Recreation Center\, 405 South Oak Street\, Crowley\, TX\, 76036\, United States
ATTACH;FMTTYPE=image/png:https://savetarrantwater.com/wp-content/uploads/2023/09/10.7.2023-DIY-RWH-Crowley-SM.png
END:VEVENT
BEGIN:VEVENT
DTSTART;TZID=America/Chicago:20231010T180000
DTEND;TZID=America/Chicago:20231010T190000
DTSTAMP:20260423T010531
CREATED:20230915T205158Z
LAST-MODIFIED:20230915T205158Z
UID:6455-1696960800-1696964400@savetarrantwater.com
SUMMARY:Home Sprinkler Basics
DESCRIPTION:Figuring out how much to water your landscape and how to work your sprinkler system is easy! \nJoin our free online class to learn all about the basics of a home sprinkler! \nRegister here: https://Benbrook_Sprinkler.eventbrite.com \n  \nAttend this free workshop to learn more about \n\nAll the parts of a typical home sprinkler system\nHow to determine how much water your system uses\nHow to see if your system has uneven coverage\nHow to program your controller\nHow to adjust heads and maintain your system\nHow to check your system for leaks\nHow to make easy DIY repairs\n\nThis is a free event. Register here to receive information on how to participate.
URL:https://savetarrantwater.com/event/home-sprinkler-basics-2/
LOCATION:Benbrook Public Library\, 1065 Mercedes Street\, Benbrook\, TX\, 76126\, United States
ATTACH;FMTTYPE=image/png:https://savetarrantwater.com/wp-content/uploads/2023/09/10.10.2023-Home-Sprinkler-Basics-Benbrook-SM.png
END:VEVENT
BEGIN:VEVENT
DTSTART;TZID=America/Chicago:20231012T173000
DTEND;TZID=America/Chicago:20231012T183000
DTSTAMP:20260423T010531
CREATED:20230915T205428Z
LAST-MODIFIED:20230915T205428Z
UID:6466-1697131800-1697135400@savetarrantwater.com
SUMMARY:Gardening with Ornamental Grasses
DESCRIPTION:Add texture and interest to your garden by using Grasses! \nJoin our free class to learn all about Gardening with Ornamental Grasses in North Texas. \nGrasses can come in many different colors\, textures\, and heights\, adding diversity to any landscape. Large\, clumping grasses are often low water use and require little maintenance. They also have deep roots that allow water to penetrate the soil\, keeping it in the soil longer for other plants to enjoy. \nLearn about a variety of Grasses suitable for North Texas landscapes and how to design a garden with large grasses.
URL:https://savetarrantwater.com/event/gardening-with-ornamental-grasses-4/
LOCATION:North Richland Hills Library\, 9015 Grand Ave\, North Richland Hills\, TX\, 76180\, United States
ATTACH;FMTTYPE=image/png:https://savetarrantwater.com/wp-content/uploads/2023/09/10.12.2023-Ornamental-Grasses-NRH-SM.png
END:VEVENT
BEGIN:VEVENT
DTSTART;TZID=America/Chicago:20231017T180000
DTEND;TZID=America/Chicago:20231017T190000
DTSTAMP:20260423T010531
CREATED:20230915T205632Z
LAST-MODIFIED:20230915T205632Z
UID:6470-1697565600-1697569200@savetarrantwater.com
SUMMARY:Gardening for Texas Butterflies
DESCRIPTION:Bring color into your home by creating a butterfly garden! \nFree! Register here: https://buttergarden.eventbrite.com \nHave you always dreamed of waking up to a garden full of butterflies? Create a safe space for butterflies to rest and roam by adding native flowers and butterfly friendly features. \nLearn about: \n\nThe types of plants to plant to attract the butterflies you want\nThe type of features to add to attract butterflies\nHow to design a garden with butterflies in mind\nHost plants for different types of butterflies\nCreating an efficient\, low resource use garden\n\n  \nThis is a free online event. Register to receive information on how to participate. \nAfter registering\, check your email for instructions on how to join the live event. \n 
URL:https://savetarrantwater.com/event/gardening-for-texas-butterflies-2/
LOCATION:Online
ATTACH;FMTTYPE=image/png:https://savetarrantwater.com/wp-content/uploads/2023/09/10.17.2023-Gardening-Texas-Butterflies-SM.png
END:VEVENT
BEGIN:VEVENT
DTSTART;TZID=America/Chicago:20231019T160000
DTEND;TZID=America/Chicago:20231019T170000
DTSTAMP:20260423T010531
CREATED:20230915T205902Z
LAST-MODIFIED:20230915T205902Z
UID:6472-1697731200-1697734800@savetarrantwater.com
SUMMARY:Gardening for Butterflies
DESCRIPTION:Bring color into your home by creating a butterfly garden! \nJoin our free class to learn how!: https://MansfieldBG.eventbrite.com \n  \nHave you always dreamed of waking up to a garden full of butterflies? Create a safe space for butterflies to rest and roam by adding native flowers and butterfly friendly features. \nLearn about: \n\nCommon types of butterflies in North Texas\nThe types of plants to plant to attract the butterflies you want\nThe type of features to add to attract butterflies\nHow to design a garden with butterflies in mind\nHost plants for different types of butterflies\nCreating an efficient\, low resource use garden
URL:https://savetarrantwater.com/event/gardening-for-butterflies/
LOCATION:Chris W. Burkett Mansfield Service Center\, 620 S Wisteria St\, Mansfield\, TX\, 76063\, United States
ATTACH;FMTTYPE=image/png:https://savetarrantwater.com/wp-content/uploads/2023/09/10.19.2023-Gardening-for-Butterflies-Mansfield-SM-1.png
END:VEVENT
BEGIN:VEVENT
DTSTART;TZID=America/Chicago:20231019T180000
DTEND;TZID=America/Chicago:20231019T190000
DTSTAMP:20260423T010531
CREATED:20230915T210038Z
LAST-MODIFIED:20230915T210038Z
UID:6476-1697738400-1697742000@savetarrantwater.com
SUMMARY:Backyard Greenhouse
DESCRIPTION:Garden year round with a backyard greenhouse! \nJoin our free class to learn how!:  https://NRHbygh.eventbrite.com \n  \nHave you always dreamed of having a greenhouse in your backyard? Create an amazing feature and extend your growing season with a backyard greenhouse. \nLearn about: \n\nTypes of greenhouses\nWhat to expect when creating your own greenhouse\nMaintaining a greenhouse\nHow to design your greenhouse garden and when to plant\nGreenhouse components\, like irrigation\n\n 
URL:https://savetarrantwater.com/event/backyard-greenhouse/
LOCATION:Online
ATTACH;FMTTYPE=image/png:https://savetarrantwater.com/wp-content/uploads/2023/09/10.19.2023-Backyard-Greenhouse-NRH-SM.png
END:VEVENT
BEGIN:VEVENT
DTSTART;TZID=America/Chicago:20231102T180000
DTEND;TZID=America/Chicago:20231102T190000
DTSTAMP:20260423T010531
CREATED:20231025T161904Z
LAST-MODIFIED:20231025T161904Z
UID:7092-1698948000-1698951600@savetarrantwater.com
SUMMARY:Trees for North Texas
DESCRIPTION:Fall is the perfect time to plant a tree! \nFree online class! Register here: https://northtxtrees.eventbrite.com \nTrees provide beauty and much needed shade in our hot North Texas summers. Planting a tree can provide a habitat for birds\, reduce the temperature of your house\, and maybe even produce fruit. Attend our class to learn about planting a tree today and give a gift to future generations. \n  \nThis is a free online event. Register to receive information on how to participate.  \nThe class will be 1 hour long and taught by a Tarrant County Master Gardener. \nStick around after the presentation for a live Q+A session. \nThis event is brought to you by North Richland Hills and Tarrant Regional Water District.
URL:https://savetarrantwater.com/event/trees-for-north-texas-2/
LOCATION:Online
ATTACH;FMTTYPE=image/png:https://savetarrantwater.com/wp-content/uploads/2023/09/11.2.2023-Trees-for-North-Texas-NRH-SM.png
END:VEVENT
END:VCALENDAR