BEGIN:VCALENDAR
VERSION:2.0
PRODID:-//Save Tarrant Water - ECPv5.2.0//NONSGML v1.0//EN
CALSCALE:GREGORIAN
METHOD:PUBLISH
X-WR-CALNAME:Save Tarrant Water
X-ORIGINAL-URL:https://savetarrantwater.com
X-WR-CALDESC:Events for Save Tarrant Water
BEGIN:VTIMEZONE
TZID:America/Chicago
BEGIN:DAYLIGHT
TZOFFSETFROM:-0600
TZOFFSETTO:-0500
TZNAME:CDT
DTSTART:20230312T080000
END:DAYLIGHT
BEGIN:STANDARD
TZOFFSETFROM:-0500
TZOFFSETTO:-0600
TZNAME:CST
DTSTART:20231105T070000
END:STANDARD
END:VTIMEZONE
BEGIN:VEVENT
DTSTART;TZID=America/Chicago:20230805T080000
DTEND;TZID=America/Chicago:20230812T170000
DTSTAMP:20260423T033556
CREATED:20230713T175437Z
LAST-MODIFIED:20230713T175437Z
UID:5215-1691222400-1691859600@savetarrantwater.com
SUMMARY:Tough Plants for North Texas
DESCRIPTION:Create a lush Texas yard by choosing tough plants that are native to our region! \nJoin our free class to learn how! \nRegister here: toughplantsTX.eventbrite.com \nNative Texas plants thrive in our harsh local climate and soils. Native and low water use does not mean cacti and gravel! North Texas is home to thousands of beautiful flowers\, grasses\, bushes\, and trees\, all perfectly adapted to live with little to no care. Whether you want a traditional suburban yard or an extravagant butterfly garden\, using native Texas plants and resource conscious design principles can help you get the best yard on the block without too much effort. \nLearn about: \n\nWhy it is beneficial to plant native plants\nThe basic principles of landscape design\nNative perennial flowers\, wildflowers\, grasses\, shrubs\, and trees\nHow to choose and find native plants for your yard\nWhich plants need less water and maintenance\nWays to use native plants to create beautiful gardens\n\n  \n  \nThis is a free online class that will be on-demand from August 5-12. Register here to receive information on how to participate. \nThe class will be 45 minutes long and taught by a Tarrant County Master Gardener. \nAfter registering\, check your email for instructions on how to join the online event. \n  \nThis event is brought to you by the city of Mansfield and Tarrant Regional Water District.
URL:https://savetarrantwater.com/event/tpntx/
LOCATION:Online
ATTACH;FMTTYPE=image/png:https://savetarrantwater.com/wp-content/uploads/2023/07/8.5-12.2023-Tough-Plants-for-North-Texas-Mansfield-SM.png
END:VEVENT
BEGIN:VEVENT
DTSTART;TZID=America/Chicago:20230810T173000
DTEND;TZID=America/Chicago:20230810T183000
DTSTAMP:20260423T033556
CREATED:20230707T200737Z
LAST-MODIFIED:20230707T200737Z
UID:5164-1691688600-1691692200@savetarrantwater.com
SUMMARY:Critter Capers
DESCRIPTION:Texas is full of interesting critters\, even in the average suburban yard. Learn about common wildlife in North Texas landscapes\, how to attract them\, and how to support them with the plants we plant. \nJoin us for Critter Capers: Wildlife in the Garden at the North Richland Hills Library! \nMore info: Calendar • North Richland Hills Library\, TX • CivicEngage (nrhtx.com)
URL:https://savetarrantwater.com/event/critter-capers/
LOCATION:North Richland Hills Library\, 9015 Grand Ave\, North Richland Hills\, TX\, 76180\, United States
ATTACH;FMTTYPE=image/png:https://savetarrantwater.com/wp-content/uploads/2023/07/8.10.2023-Critter-Capers-NRH-SM.png
END:VEVENT
BEGIN:VEVENT
DTSTART;TZID=America/Chicago:20230810T180000
DTEND;TZID=America/Chicago:20230810T190000
DTSTAMP:20260423T033556
CREATED:20230620T145720Z
LAST-MODIFIED:20230707T201834Z
UID:5085-1691690400-1691694000@savetarrantwater.com
SUMMARY:Be Smarter Than Your Smart Controller
DESCRIPTION:Got a new home sprinkler system\, but not quite sure how it works? \nA lot can be done with Smart Controllers – Join our free class to learn how to get the most out of yours. \nRegister here: https://SSSmartController.eventbrite.com  \nSmart controllers have tons of options and settings. Optimizing the use of your smart controller can mean saving big on your water bill this summer and having a healthy landscape. \nThis class will cover the Rachio and Orbit B-Hyve smart sprinkler controllers. However\, information regarding any specific commercial product or service by trade name\, trademark\, or manufacturer does not constitute or imply its endorsement\, recommendation\, or favoring by TRWD. \nLearn about \n\nBasics of a smart sprinkler controller\nThe different settings and programs that can be used\nBest ways to set your controller to get optimal results\nHow to be water efficient with your controller\n\nThis is a free online event. Register here to receive information on how to participate.  \nThe class will be 1 hour long and taught by an irrigation expert. \nStick around after the presentation for a live Q+A session. \n  \nCheck out more classes like this and resources to help you keep your water bill low this summer at SaveTarrantWater.com/Summer-Savings.
URL:https://savetarrantwater.com/event/be-smarter-than-your-smart-controller/
LOCATION:Online
ATTACH;FMTTYPE=image/png:https://savetarrantwater.com/wp-content/uploads/2023/06/8.10.2023-SS-Be-Smarter-Than-Your-Smart-Controller-SM.png
END:VEVENT
BEGIN:VEVENT
DTSTART;TZID=America/Chicago:20230812T090000
DTEND;TZID=America/Chicago:20230812T130000
DTSTAMP:20260423T033556
CREATED:20230714T143703Z
LAST-MODIFIED:20230714T143703Z
UID:5238-1691830800-1691845200@savetarrantwater.com
SUMMARY:Common Ground Fall Gardening Seminar
DESCRIPTION:Come see us at the North Richland Hills Common Ground Fall Gardening Seminar! \nPresentations by local gardening experts. \nFreebies and info from partners and sponsors. \nRaffle prizes\, and more!
URL:https://savetarrantwater.com/event/common-ground-fall-gardening-seminar/
LOCATION:Grand Hall at North Richland Hills Centre\, 6000 Hawk Ave\, North Richland Hills\, TX\, 76180\, United States
ATTACH;FMTTYPE=image/png:https://savetarrantwater.com/wp-content/uploads/2023/07/NRH-Common-Ground-Fall-2023-SM.png
END:VEVENT
BEGIN:VEVENT
DTSTART;TZID=America/Chicago:20230812T100000
DTEND;TZID=America/Chicago:20230812T120000
DTSTAMP:20260423T033556
CREATED:20230714T143131Z
LAST-MODIFIED:20230714T143131Z
UID:5232-1691834400-1691841600@savetarrantwater.com
SUMMARY:DIY Rainwater Harvesting Workshop
DESCRIPTION:Capture water while it is raining to use on your landscape later when it isn’t! \nJoin our workshop to learn how\, then build your own rain barrel to take home! \nRegister here: https://BurlesonRWH.eventbrite.com  \nRainwater harvesting is great for North Texas because you can keep some of the rain we get during the spring and fall to use during our hot and dry summers. Even a small roof area can produce a usable amount of water during an average rainfall. From huge cisterns to small DIY barrels\, capturing rainwater can be done by anyone. Attend this workshop to learn the ins and outs of rainwater harvesting and purchase a discounted barrel to take home! \nLearn about: \n\nHow much water your roof will produce in a year\nWhere to put your rain barrel to capture the most water\nHow to install a barrel\nHow to hook up and use your new water source\nHow to build your own 50 gallon rain barrel with just a few supplies from the hardware store\n\nVisit SaveTarrantWater.com/events to learn about other events like this! \nThis event is brought to you by Burleson Library and Tarrant Regional Water District.
URL:https://savetarrantwater.com/event/diy-rainwater-harvesting-workshop-4/
LOCATION:Burleson Library\, 248 SW Johnson Ave\, Burleson\, TX\, 76028\, United States
ATTACH;FMTTYPE=image/png:https://savetarrantwater.com/wp-content/uploads/2023/07/8.12.2023-DIY-RWH-Burleson-SM-1.png
END:VEVENT
BEGIN:VEVENT
DTSTART;TZID=America/Chicago:20230812T100000
DTEND;TZID=America/Chicago:20230812T110000
DTSTAMP:20260423T033556
CREATED:20230714T143331Z
LAST-MODIFIED:20230714T143331Z
UID:5236-1691834400-1691838000@savetarrantwater.com
SUMMARY:Fall Garden Prep
DESCRIPTION:Keep your north Texas garden looking beautiful and tidy by prepping it for Fall! \nJoin our free class to learn how! \nRegister at: https://FallGP.eventbrite.com \n  \nFall is right around the corner and that means leaves will fall and temperatures will drop\, but that doesn’t mean the garden fun will stop. Find out what plants you can grow in the fall and how to keep your garden tidy and safe from the upcoming cold weather. \nLearn about \n\nWhat plants to plant in the fall\nWhere to find native plants for the fall\nFall maintenance tips for gardens\nHow to prep your garden for the winter\n\nThis is a free event but registration is required to participate.   \nThe class will be 45 minutes long and taught by a Tarrant County Master Gardener. \nVisit SaveTarrantWater.com/events to learn about other events like this! \nThis event is brought to you by Haltom City and Tarrant Regional Water District.
URL:https://savetarrantwater.com/event/fall-garden-prep/
LOCATION:Haltom City Senior Center\, 3201 Friendly Ln\, Haltom City\, TX\, 76117\, United States
ATTACH;FMTTYPE=image/png:https://savetarrantwater.com/wp-content/uploads/2023/07/8.12.2023-Fall-Garden-Prep-Haltom-City-SM.png
END:VEVENT
BEGIN:VEVENT
DTSTART;TZID=America/Chicago:20230819T090000
DTEND;TZID=America/Chicago:20230819T100000
DTSTAMP:20260423T033556
CREATED:20230714T151400Z
LAST-MODIFIED:20230714T151400Z
UID:5240-1692435600-1692439200@savetarrantwater.com
SUMMARY:Backyard Composting
DESCRIPTION:Turn yard and kitchen scraps into lush compost to use in your garden! \nJoin our free class to learn how! \nComposting at home can reduce waste sent to the landfill and create soil amendments for a heathy landscape. Compost piles can be made in a variety of ways and be maintained for different purposes. \nLearn about: \n\nBenefits of composting\nDesigning a pile\nContainer options\nEffective methods to yield high-quality compost\nHow and when to use it\n\n  \nThis event is brought to you by the City of Mansfield and Tarrant Regional Water District.
URL:https://savetarrantwater.com/event/backyard-composting-11/
LOCATION:Oliver Nature Park\, 1650 Matlock Road\, Mansfield\, TX\, 76063\, United States
ATTACH;FMTTYPE=image/png:https://savetarrantwater.com/wp-content/uploads/2023/07/8.19.2023-Backyard-Composting-Oliver-Nature-SM.png
END:VEVENT
BEGIN:VEVENT
DTSTART;TZID=America/Chicago:20230822T180000
DTEND;TZID=America/Chicago:20230822T190000
DTSTAMP:20260423T033556
CREATED:20230620T145837Z
LAST-MODIFIED:20230717T152832Z
UID:5087-1692727200-1692730800@savetarrantwater.com
SUMMARY:Home Sprinkler Basics
DESCRIPTION:Not sure what all the buttons do on your sprinkler controller? \nConfused about zones\, heads\, and nozzles? \nJoin our free online class to learn all about the basics of a home sprinkler! \nRegister here: https://SSSprinklerBasics.eventbrite.com \nFiguring out how much to water your landscape and how to work your sprinkler system is easy! \nAttend this free workshop to learn more about \n\nAll the parts of a typical home sprinkler system\nHow to determine how much water your system uses\nHow to see if your system has uneven coverage\nHow to program your controller\nHow to adjust heads and maintain your system\nHow to check your system for leaks\nHow to make easy DIY repairs\n\nThis is a free online event. Register here to receive information on how to participate.  \nThe class will be 1.5 hours long and taught by a horticulture expert. \nStick around after the presentation for a live Q+A session. \n  \nCheck out more classes like this and resources to help you keep your water bill low this summer at SaveTarrantWater.com/Summer-Savings. \nThis event is brought to you by Water is Awesome\, Tarrant Regional Water District\, City of Dallas Water Utilities and North Texas Municipal Water District.
URL:https://savetarrantwater.com/event/home-sprinkler-basics/
LOCATION:Online
ATTACH;FMTTYPE=image/png:https://savetarrantwater.com/wp-content/uploads/2023/06/8.22.2023-SS-Home-Sprinkler-Basics-SM-2.png
END:VEVENT
BEGIN:VEVENT
DTSTART;TZID=America/Chicago:20230824T180000
DTEND;TZID=America/Chicago:20230824T190000
DTSTAMP:20260423T033556
CREATED:20230714T153735Z
LAST-MODIFIED:20230714T153735Z
UID:5242-1692900000-1692903600@savetarrantwater.com
SUMMARY:Gardening for Birds
DESCRIPTION:Add life and color to your yard by creating a garden for birds! \nJoin our free online class to learn how. Register here: https://bird-garden.eventbrite.com \nExperience the beautiful colors and sweet songs of a variety of birds in your own backyard. Create habitat and food sources for different types of birds to have visitors year-round. Attracting birds to your yard means more than just putting up a bird feeder! \nLearn about: \n\nCommon types of birds in North Texas\nThe types of plants to plant to attract the type of birds you want\nThe types of features to add to attract birds\nHow to design your garden with birds in mind\nHow to find the correct plants for North Texas\nCreating an efficient\, low resource use garden\n\nGet ideas and inspiration to create an outstanding feature in your North Texas yard! \n  \nThis is a free online event. Register here to receive information on how to participate.  \nThe class will be 1 hour long and taught by a Tarrant County Master Gardener. \nStick around after the presentation for a live Q+A session. \n  \nThis event is brought to you by the City of North Richland Hills and Tarrant Regional Water District.
URL:https://savetarrantwater.com/event/gardening-for-birds-4/
LOCATION:Online
ATTACH;FMTTYPE=image/png:https://savetarrantwater.com/wp-content/uploads/2023/07/8.24.2023-Gardening-for-Birds-NRH-SM.png
END:VEVENT
BEGIN:VEVENT
DTSTART;TZID=America/Chicago:20230829T190000
DTEND;TZID=America/Chicago:20230829T200000
DTSTAMP:20260423T033556
CREATED:20230828T143045Z
LAST-MODIFIED:20230828T143045Z
UID:6214-1693335600-1693339200@savetarrantwater.com
SUMMARY:Shade Gardening
DESCRIPTION:Turn the shady space in your yard where grass won’t grow in to a beautiful oasis! \nThis class will be 45 minutes long and taught by a Tarrant County Master Gardener. \nRegister here: Webinar Registration – Zoom \nPre-registration is required.\nAfter registering\, you will receive a confirmation email containing information about joining the meeting.\nFor questions or more information\, contact:\nTCmastergardener1801@gmail.com \nClasses are FREE and are presented virtually through Zoom Webinar beginning at 7:00 pm central time. \n 
URL:https://savetarrantwater.com/event/shade-gardening-2/
LOCATION:Online
ATTACH;FMTTYPE=image/png:https://savetarrantwater.com/wp-content/uploads/2023/08/8.29.2023-Shade-Gardening-TCMGA-SM.png
END:VEVENT
BEGIN:VEVENT
DTSTART;TZID=America/Chicago:20230831T180000
DTEND;TZID=America/Chicago:20230831T190000
DTSTAMP:20260423T033556
CREATED:20230714T154142Z
LAST-MODIFIED:20230714T154142Z
UID:5245-1693504800-1693508400@savetarrantwater.com
SUMMARY:Gardening for Native Bees
DESCRIPTION:Keep your garden lush and beautiful by creating a garden for native bees! \nJoin our free class to learn how! https://NativeBees.eventbrite.com \nDon’t shy away from native bees! Native bees are one of many pollinators that help keep plants flourishing for years to come. Attract native bees to your home landscape by adding native plants and features that they will go on buzzing about. \nLearn about: \n\nThe common types of Native Bees in North Texas\nThe types of plants to plant to attract native bees\nThe types of features to add to attract native bees\nHow to find native plants for North Texas\nHow to design your garden with native bees in mind\n\nGet ideas and inspiration to create an outstanding feature in your North Texas yard! \nThis is a free online event. Register here to receive information on how to participate. \nAfter registering\, check your email for instructions on how to join the live event. \n 
URL:https://savetarrantwater.com/event/gardening-for-native-bees/
LOCATION:Online
ATTACH;FMTTYPE=image/png:https://savetarrantwater.com/wp-content/uploads/2023/07/8.31.2023-Gardening-for-Native-Bees-TRWD-SM.png
END:VEVENT
END:VCALENDAR