BEGIN:VCALENDAR
VERSION:2.0
PRODID:-//Save Tarrant Water - ECPv5.2.0//NONSGML v1.0//EN
CALSCALE:GREGORIAN
METHOD:PUBLISH
X-WR-CALNAME:Save Tarrant Water
X-ORIGINAL-URL:https://savetarrantwater.com
X-WR-CALDESC:Events for Save Tarrant Water
BEGIN:VTIMEZONE
TZID:America/Chicago
BEGIN:DAYLIGHT
TZOFFSETFROM:-0600
TZOFFSETTO:-0500
TZNAME:CDT
DTSTART:20230312T080000
END:DAYLIGHT
BEGIN:STANDARD
TZOFFSETFROM:-0500
TZOFFSETTO:-0600
TZNAME:CST
DTSTART:20231105T070000
END:STANDARD
END:VTIMEZONE
BEGIN:VEVENT
DTSTART;TZID=America/Chicago:20230708T080000
DTEND;TZID=America/Chicago:20230715T170000
DTSTAMP:20260423T050142
CREATED:20230605T174814Z
LAST-MODIFIED:20230605T174814Z
UID:5020-1688803200-1689440400@savetarrantwater.com
SUMMARY:Tough Texas Lawn Care
DESCRIPTION:Have the greenest lawn on the block with smart maintenance techniques! \nJoin our free online class to learn how! Register here: https://ToughLawns.eventbrite.com \n  \nGrass not doing so well? \nUnsure what type of turf is best for your yard? \nThe climate in North Texas can be harsh\, but having a lush lawn is easy with the right practices. Let our turf expert walk you through the steps to get a healthy lawn and talk about how to solve common problems. \nLearn about: \n\nTypes of turf grass suitable for North Texas lawns\nHow much and when to water your lawn\nWhat to do about lackluster and patchy grass\nHow to get rid of pests\nProper seasonal maintenance\n\n  \nThis is a free online event. Register here to receive information on how to participate.  \nThe class will be 1 hour long and taught by a Tarrant County Master Gardener. \n  \nThis event is brought to you by Mansfield Water Utilities and Tarrant Regional Water District.
URL:https://savetarrantwater.com/event/tough-texas-lawn-care-4/
LOCATION:Online
ATTACH;FMTTYPE=image/png:https://savetarrantwater.com/wp-content/uploads/2023/06/7.8.2023-Tough-Texas-Lawn-Care-Mansfield-SM-.png
END:VEVENT
BEGIN:VEVENT
DTSTART;TZID=America/Chicago:20230713T180000
DTEND;TZID=America/Chicago:20230713T190000
DTSTAMP:20260423T050142
CREATED:20230605T174944Z
LAST-MODIFIED:20230605T174944Z
UID:5028-1689271200-1689274800@savetarrantwater.com
SUMMARY:Tough Plants for North Texas
DESCRIPTION:Create a lush Texas yard by choosing tough plants that are native to our region! \nFree! Register here: https://ToughPlantsHC.eventbrite.com \nNative Texas plants thrive in our harsh local climate and soils. Native and low water use does not mean cacti and gravel! North Texas is home to thousands of beautiful flowers\, grasses\, bushes\, and trees\, all perfectly adapted to live with little to no care. Whether you want a traditional suburban yard or an extravagant butterfly garden\, using native Texas plants and resource conscious design principles can help you get the best yard on the block without too much effort. \nLearn about: \n\nWhy it is beneficial to plant native plants\nThe basic principles of landscape design\nNative perennial flowers\, wildflowers\, grasses\, shrubs\, and trees\nHow to choose and find native plants for your yard\nWhich plants need less water and maintenance\nWays to use native plants to create beautiful gardens\n\n  \nThis is a free event but registration is required to participate.   \nThe class will be 45 minutes long and taught by a Tarrant County Master Gardener. \n  \nThis event is brought to you by Haltom City and Tarrant Regional Water District.
URL:https://savetarrantwater.com/event/tough-plants-for-north-texas-5/
LOCATION:Haltom City Senior Center\, 3201 Friendly Ln\, Haltom City\, TX\, 76117\, United States
ATTACH;FMTTYPE=image/png:https://savetarrantwater.com/wp-content/uploads/2023/06/7.13.2023-Tough-Texas-Plants-Haltom-City-SM.png
END:VEVENT
BEGIN:VEVENT
DTSTART;TZID=America/Chicago:20230718T180000
DTEND;TZID=America/Chicago:20230718T190000
DTSTAMP:20260423T050142
CREATED:20230605T175127Z
LAST-MODIFIED:20230605T175127Z
UID:5030-1689703200-1689706800@savetarrantwater.com
SUMMARY:DIY Sprinkler Repair
DESCRIPTION:If you haven’t checked out your sprinkler system lately\, there might some issues that are easily fixed. \nJoin our free workshop to learn all about the basics of a home sprinkler system and how to fix most common issues on your own! \nRegister at https://ARLSprinkler-Repair.eventbrite.com \nWalk through common breaks and sources of inefficiency\, then learn how to fix them all with minimal tools and time. \nAttend this free workshop to learn more about \n\nAll the parts of a typical home sprinkler system\nHow to determine how much water your system uses\nHow to see if your system has uneven coverage\nHow to program your controller\nHow to adjust heads and maintain your system\nHow to check your system for leaks\nHow to make easy DIY repairs\n\n  \nTake home a free sprinkler test kit when you attend this class!  \n  \nThe class will be 1 hour long and taught by an irrigation expert. \n  \nThis event is brought to you by Arlington Water Utilities\, Arlington Libraries\, and Tarrant Regional Water District.
URL:https://savetarrantwater.com/event/diy-sprinkler-repair-9/
LOCATION:Lake Arlington Library\, 4000 W Green Oaks Blvd\, Arlington\, TX\, 76016\, United States
ATTACH;FMTTYPE=image/png:https://savetarrantwater.com/wp-content/uploads/2023/06/7.18.2023-DIY-Sprinkler-Repair-Arlington-SM.png
END:VEVENT
BEGIN:VEVENT
DTSTART;TZID=America/Chicago:20230718T180000
DTEND;TZID=America/Chicago:20230718T190000
DTSTAMP:20260423T050142
CREATED:20230620T144331Z
LAST-MODIFIED:20230620T144331Z
UID:5081-1689703200-1689706800@savetarrantwater.com
SUMMARY:Turf Tips
DESCRIPTION:Having trouble keeping your lawn looking green and keeping your water bill low? \nWe’ve got your back! \nStay stress free by joining our free online class to learn how to keep your turf grass looking beautiful! \nRegister at https://SSTurfTips.eventbrite.com \nWhether you’re looking to put in new turf grass or manage your current lawn\, learn tips and tricks on how to keep your lawn healthy and green in the North Texas heat while saving water. Walk through common turf grass issues\, then learn how you can fix them. \nCheck out more classes like this and resources to help you keep your water bill low this summer at SaveTarrantWater.com/Summer-Savings. \n  \nThis is a free online event. Register here to receive information on how to participate.  \nThe class will be 45 minutes long and taught by an irrigation expert.
URL:https://savetarrantwater.com/event/turf-tips/
LOCATION:Online
ATTACH;FMTTYPE=image/png:https://savetarrantwater.com/wp-content/uploads/2023/06/7.18.2023-Summer-Turf-Tips-SM-2.png
END:VEVENT
BEGIN:VEVENT
DTSTART;TZID=America/Chicago:20230720T180000
DTEND;TZID=America/Chicago:20230720T190000
DTSTAMP:20260423T050142
CREATED:20230605T175257Z
LAST-MODIFIED:20230605T175257Z
UID:5032-1689876000-1689879600@savetarrantwater.com
SUMMARY:Tough Texas Lawn Care
DESCRIPTION:Have the greenest lawn on the block with smart maintenance techniques! \nJoin our free online class to learn how! Register here: https://TexasLawn_Care.eventbrite.com \nGrass not doing so well? \nUnsure what type of turf is best for your yard? \nThe climate in North Texas can be harsh\, but having a lush lawn is easy with the right practices. Let our turf expert walk you through the steps to get a healthy lawn and talk about how to solve common problems. \nLearn about: \n\nTypes of turf grass suitable for North Texas lawns\nHow much and when to water your lawn\nWhat to do about lackluster and patchy grass\nHow to get rid of pests\nProper seasonal maintenance\n\n  \nThis is a free online event. Register here to receive information on how to participate. \nThe class will be 1 hour long and taught by a Tarrant County Master Gardener. \nStick around after the presentation for a live Q+A session. \n  \nThis event is brought to you by North Richland Hills and Tarrant Regional Water District.
URL:https://savetarrantwater.com/event/tough-texas-lawn-care-5/
LOCATION:Online
ATTACH;FMTTYPE=image/png:https://savetarrantwater.com/wp-content/uploads/2023/06/7.20.10.2023-Tough-Texas-Lawn-Care-NRH-SM.png
END:VEVENT
BEGIN:VEVENT
DTSTART;TZID=America/Chicago:20230722T080000
DTEND;TZID=America/Chicago:20230729T170000
DTSTAMP:20260423T050142
CREATED:20230605T175446Z
LAST-MODIFIED:20230628T171256Z
UID:5034-1690012800-1690650000@savetarrantwater.com
SUMMARY:Gardening for Drought
DESCRIPTION:Create a drought-hardy landscape! \nJoin our free class to learn how! Register here: https://Garden-for-Drought.eventbrite.com \nNorth Texas is prone to drought in the summer and it can be hard to keep plants from drying out. Luckily\, many of our native plants are drought-tolerant and accustomed to thriving with little water. Even non-drought tolerant plants can be helped by following smart watering strategies. Whether you want a yard full of plants or a lawn\, choosing tough plants and knowing how to care for your landscape in a drought can help keep it lush\, even in hard times. \n  \nLearn about: \n\nThe importance of water efficiency in a drought\nCommon gardening mistakes that lead to water loss\nThe basic principles of landscape design\nThe best drought-tolerant native plants for your garden\nHow to choose native turf for your lawn\nHow to keep your garden healthy in times of drought\n\n  \nThis is a free online event. Register here to receive information on how to participate.  \nThe class will be 45 minutes long and taught by a Tarrant County Master Gardener. \n  \nThis event is brought to you by the Mansfield Water Utilities and Tarrant Regional Water District.
URL:https://savetarrantwater.com/event/gardening-for-drought-3/
LOCATION:Online
ATTACH;FMTTYPE=image/png:https://savetarrantwater.com/wp-content/uploads/2023/06/7.22-29.2023-Gardening-for-Drought-Mansfield-SM-1.png
END:VEVENT
BEGIN:VEVENT
DTSTART;TZID=America/Chicago:20230725T180000
DTEND;TZID=America/Chicago:20230725T190000
DTSTAMP:20260423T050142
CREATED:20230620T145552Z
LAST-MODIFIED:20230717T152909Z
UID:5083-1690308000-1690311600@savetarrantwater.com
SUMMARY:DIY Drip Irrigation
DESCRIPTION:Have you been thinking about converting to DIY Drip Irrigation\, but don’t know where to start? \nIt’s easier than you think! \nJoin our free online class to learn how to set up your yard with Drip Irrigation! \nRegister here: https://SSDripIrrigation.eventbrite.com \n  \nDIY Drip Irrigation allows water to slowly seep into the soil\, giving your plants a more thorough watering\, all while using less water. Walk through the ins and outs of Drip Irrigation\, then learn how to easily convert your existing home sprinklers to drip. \nAttend this free workshop to learn more about \n\nAll the parts of a typical home sprinkler system and a drip system\nHow to determine how much water your system uses\nHow to program your controller\nHow to switch out your heads for drip\nHow to install your drip lines\nHow to make easy DIY repairs\nHow to change your watering techniques to use your new drip system\n\nThis is a free online event. Register here to receive information on how to participate.  \nThe class will be 1.5 hours long and taught by a horticulture expert. \nStick around after the presentation for a live Q+A session. \n  \nCheck out more classes like this and resources to help you keep your water bill low this summer at SaveTarrantWater.com/Summer-Savings. \nThis event is brought to you by Water is Awesome\, Tarrant Regional Water District\, City of Dallas Water Utilities and North Texas Municipal Water District.
URL:https://savetarrantwater.com/event/diy-drip-irrigation-4/
LOCATION:Online
ATTACH;FMTTYPE=image/png:https://savetarrantwater.com/wp-content/uploads/2023/06/7.25.2023-SS-DIY-Drip-Irrigation-SM-2.png
END:VEVENT
BEGIN:VEVENT
DTSTART;TZID=America/Chicago:20230727T180000
DTEND;TZID=America/Chicago:20230727T190000
DTSTAMP:20260423T050142
CREATED:20230605T175623Z
LAST-MODIFIED:20230605T175623Z
UID:5036-1690480800-1690484400@savetarrantwater.com
SUMMARY:Gardening for Birds
DESCRIPTION:Add life and color to your yard by creating a garden for birds! \nFree! Register here: https://bird_garden.eventbrite.com \nExperience the beautiful colors and sweet songs of a variety of birds in your own backyard. Create habitat and food sources for different types of birds to have visitors year-round. Attracting birds to your yard means more than just putting up a bird feeder! \nLearn about: \n\nCommon types of birds in North Texas\nThe types of plants to plant to attract the type of birds you want\nThe types of features to add to attract birds\nHow to design your garden with birds in mind\nHow to find the correct plants for North Texas\nCreating an efficient\, low resource use garden\n\nGet ideas and inspiration to create an outstanding feature in your North Texas yard! \n  \nThis is a free online event. Register here to receive information on how to participate.  \nThe class will be 1 hour long and taught by a Tarrant County Master Gardener. \nStick around after the presentation for a live Q+A session. \n  \nThis event is brought to you by Tarrant Regional Water District.
URL:https://savetarrantwater.com/event/gardening-for-birds-3/
LOCATION:Online
ATTACH;FMTTYPE=image/png:https://savetarrantwater.com/wp-content/uploads/2023/06/7.27.2023-Gardening-for-Birds-TRWD-SM.png
END:VEVENT
END:VCALENDAR