BEGIN:VCALENDAR
VERSION:2.0
PRODID:-//Save Tarrant Water - ECPv5.2.0//NONSGML v1.0//EN
CALSCALE:GREGORIAN
METHOD:PUBLISH
X-WR-CALNAME:Save Tarrant Water
X-ORIGINAL-URL:https://savetarrantwater.com
X-WR-CALDESC:Events for Save Tarrant Water
BEGIN:VTIMEZONE
TZID:America/Chicago
BEGIN:DAYLIGHT
TZOFFSETFROM:-0600
TZOFFSETTO:-0500
TZNAME:CDT
DTSTART:20230312T080000
END:DAYLIGHT
BEGIN:STANDARD
TZOFFSETFROM:-0500
TZOFFSETTO:-0600
TZNAME:CST
DTSTART:20231105T070000
END:STANDARD
END:VTIMEZONE
BEGIN:VEVENT
DTSTART;TZID=America/Chicago:20230228T180000
DTEND;TZID=America/Chicago:20230228T190000
DTSTAMP:20260422T060118
CREATED:20221222T174335Z
LAST-MODIFIED:20230113T200635Z
UID:4535-1677607200-1677610800@savetarrantwater.com
SUMMARY:Spring Vegetable Gardening
DESCRIPTION:This class is SOLD OUT! \n  \nGrow your own food at home with the best vegetables for North Texas gardens! \nFree! Register here: https://Arlingtonveg.eventbrite.com \n  \nNorth Texas has a long growing season that accommodates many different types of vegetables. Growing your own at home can be easy when you know what to plant and how to care for them to get the juiciest harvests. \nLearn about: \n\nWhat types of vegetables to plant when\nThe best vegetable varieties for North Texas\nWhat type of soil to use and how to prepare your site\nHow to care for your vegetable plants\nHow and when to harvest your veggies for the best flavor\n\nThe class will be 45 minutes long. \nThis event is brought to you by Arlington Water Utilities and Tarrant Regional Water District.
URL:https://savetarrantwater.com/event/spring-veg-gar/
LOCATION:Arlington Downtown Library\, 100 S Center St\, Arlington\, TX\, 76010\, United States
ATTACH;FMTTYPE=image/png:https://savetarrantwater.com/wp-content/uploads/2022/12/2.28.2023-Vegetable-Gardening-Arlington-SM.png
END:VEVENT
BEGIN:VEVENT
DTSTART;TZID=America/Chicago:20230304T090000
DTEND;TZID=America/Chicago:20230304T123000
DTSTAMP:20260422T060118
CREATED:20230124T172445Z
LAST-MODIFIED:20230124T172445Z
UID:4613-1677920400-1677933000@savetarrantwater.com
SUMMARY:Spring YardSmart 2023
DESCRIPTION:YardSmart is a free\, informative conference designed to provide effective\, beneficial ways to use water wisely in the landscape. Topics vary by year and include information about lawns\, trees\, landscapes\, flower and vegetable gardening. Each session will help you maintain a healthy and beautiful landscape more efficiently with less water. \nRegistration is required for YardSmart due to occupancy restraints at the Fort Worth Botanic Garden. \nYardSmart is sponsored by Fort Worth Water and Tarrant Regional Water District. Check out all the other 2023 classes and workshops offered by both entities. \nhttps://www.eventbrite.com/e/spring-2023-yardsmart-conference-tickets-487915708017 \n  \n  \nComienza la temporada de jardinería en YardSmart en Español. Ven y aprende de los expertos sobre las mejores prácticas de los jardines eficientes y mucho más. \nYardSmart en Español es una conferencia gratis e informativa diseñada para ofrecer formas efectivas y benéficas sobre el uso inteligente del agua en los jardines. Los temas varían por año e incluye información relacionada con el pasto\, árboles\, jardines\, flores y verduras. Casa sesión te ayudará a mantener un jardín saludable y hermoso con menos agua. \nDebido a las restricciones de cupo del Jardín Botánico de Fort Worth\, toda persona interesada en asistir necesita inscribirse. \nYardSmart en Español es patrocinado por Fort Worth Agua y Distrito Regional de Agua Tarrant. Revisa la lista de clases y seminaries que ofrecen ambas entidades. \nhttps://www.eventbrite.com/e/yardsmart-en-espanol-primavera-2023-tickets-488005045227
URL:https://savetarrantwater.com/event/spring-yardsmart-2023/
LOCATION:Fort Worth Botanic Gardens\, 3220 Botanic Garden Blvd\, Fort Worth\, TX\, 76107\, United States
ATTACH;FMTTYPE=image/jpeg:https://savetarrantwater.com/wp-content/uploads/2023/01/Twitter.jpg
END:VEVENT
BEGIN:VEVENT
DTSTART;TZID=America/Chicago:20230307T180000
DTEND;TZID=America/Chicago:20230307T190000
DTSTAMP:20260422T060118
CREATED:20221222T193458Z
LAST-MODIFIED:20221222T193458Z
UID:4538-1678212000-1678215600@savetarrantwater.com
SUMMARY:DIY Sprinkler Repair for Fix a Leak Week
DESCRIPTION:If you haven’t checked out your sprinkler system lately\, there might some issues that are easily fixed. \n  \nJoin our free workshop to learn all about the basics of a home sprinkler system and how to fix most common issues on your own! \nRegister at https://ARLsprinklerrepair.eventbrite.com \n  \nWalk through common breaks and sources of inefficiency\, then learn how to fix them all with minimal tools and time. \nAttend this free workshop to learn more about \n\nAll the parts of a typical home sprinkler system\nHow to determine how much water your system uses\nHow to see if your system has uneven coverage\nHow to program your controller\nHow to adjust heads and maintain your system\nHow to check your system for leaks\nHow to make easy DIY repairs\n\nTake home a free sprinkler test kit when you attend this class!  \n  \nThe class will be 45 minutes long and taught by an irrigation expert. \n  \nLearn more about WaterSense and Fix a Leak Week here: https://www.epa.gov/watersense/fix-leak-week \n  \nVisit SaveTarrantWater.com/events to learn about other events like this! \nThis event is brought to you by Arlington Water Utilities\, Arlington Libraries\, and Tarrant Regional Water District.
URL:https://savetarrantwater.com/event/arlington-sprinkler-repair/
LOCATION:Arlington Southwest Library\, 3311 SW Green Oaks Blvd\, Arlington\, TX\, 76017\, United States
ATTACH;FMTTYPE=image/png:https://savetarrantwater.com/wp-content/uploads/2022/12/3.7.2023-Sprinkler-Repair-TCMGA-SM.png
END:VEVENT
BEGIN:VEVENT
DTSTART;TZID=America/Chicago:20230308T180000
DTEND;TZID=America/Chicago:20230308T200000
DTSTAMP:20260422T060118
CREATED:20221222T193807Z
LAST-MODIFIED:20230124T182828Z
UID:4543-1678298400-1678305600@savetarrantwater.com
SUMMARY:Building Insect Hotels Workshop
DESCRIPTION:This workshop is SOLD OUT! \n  \nArlington residents: Build your own insect hotel! \n  \nJoin our free workshop to learn how!: https://arl_insecthouse.eventbrite.com \n  \nWildlife – including insects – need places to hide\, escape and rest\, but habitat loss has reduced their natural options. Help them out by creating a hotel for your own backyard! \nMake your own hotel during the class to bring home and feature in your North Texas yard! \nThis is a free workshop\, but registration is required. This workshop is for Arlington\, Texas residents only. \nThe class will be 1 hour long and taught by a Tarrant County Master Gardener. \n  \nThis event is brought to you by Arlington Water Utilities\, Arlington Library\, and Tarrant Regional Water District.
URL:https://savetarrantwater.com/event/building-insect-hotels/
LOCATION:Arlington Downtown Library\, 100 S Center St\, Arlington\, TX\, 76010\, United States
ATTACH;FMTTYPE=image/png:https://savetarrantwater.com/wp-content/uploads/2022/12/3.8.2023-Insect-Houses-Arlington-SM.png
END:VEVENT
BEGIN:VEVENT
DTSTART;TZID=America/Chicago:20230311T100000
DTEND;TZID=America/Chicago:20230311T110000
DTSTAMP:20260422T060118
CREATED:20221222T194216Z
LAST-MODIFIED:20221222T194928Z
UID:4545-1678528800-1678532400@savetarrantwater.com
SUMMARY:DIY Home Plumbing Repair for Fix a Leak Week
DESCRIPTION:Toilet running? Faucet dripping? Got a leak you aren’t sure how to fix? \nJoin our free workshop to learn how to DIY! \nRegister at https://ARLPLUMBING.eventbrite.com \nJust in time for Fix a Leak Week\, walk through common home plumbing issues and sources of water waste\, then see how to fix them yourself. You don’t need a bunch of special tools or knowledge to fix minor plumbing problems in your own house. \nLearn about: \n\nTools needed for common fixes\nMaterials needed for fixes and routine maintenance\nHow to check your toilet for leaks\nEasily fixing common toilet issues\nFixing leaky faucets\nOther common issues that can be fixed and what needs to be handled by a professional\n\n\nTake home a free smart water use kit when you attend this workshop!\n\nTake home a free smart water use kit when you attend this workshop!  \n  \nThe class will be 45 minutes long and taught by an experienced plumber. \n  \nLearn more about WaterSense and Fix a Leak Week here: https://www.epa.gov/watersense/fix-leak-week \n  \nVisit SaveTarrantWater.com/events to learn about other events like this! \nThis event is brought to you by Arlington Water Utilities\, Arlington Libraries\, and Tarrant Regional Water District.
URL:https://savetarrantwater.com/event/diy-home-plumbing-repair23/
LOCATION:Lake Arlington Library\, 4000 W Green Oaks Blvd\, Arlington\, TX\, 76016\, United States
ATTACH;FMTTYPE=image/png:https://savetarrantwater.com/wp-content/uploads/2022/12/3.11.2023-DIY-Plumbing-Repair-Arlington-SM.png
END:VEVENT
BEGIN:VEVENT
DTSTART;TZID=America/Chicago:20230311T100000
DTEND;TZID=America/Chicago:20230311T120000
DTSTAMP:20260422T060118
CREATED:20230306T152526Z
LAST-MODIFIED:20230306T152526Z
UID:4721-1678528800-1678536000@savetarrantwater.com
SUMMARY:DIY Rainwater Harvesting Workshop
DESCRIPTION:Capture water while it is raining this spring to use on your landscape later! \nJoin our workshop to learn how\, then build your own rain barrel to take home! \nRegister here: TCMGA 2023 EDUCATION CLASSES – TCMGA ONLINE SHOPPING SITE \nRainwater harvesting is great for North Texas because you can keep some of the rain we get during the spring and fall to use during our hot and dry summers. Even a small roof area can produce a usable amount of water during an average rainfall. From huge cisterns to small DIY barrels\, capturing rainwater can be done by anyone. \nAttend this workshop to learn the ins and outs of rainwater harvesting and purchase a discounted barrel to take home! \nLearn about: \n\nHow much water your roof will produce in a year\nWhere to put your rain barrel to capture the most water\nHow to install a barrel\nHow to hook up and use your new water source\nHow to build your own 50 gallon rain barrel with just a few supplies from the hardware store\n\n  \nThe workshop will be 45 minutes long and taught by Tarrant County Master Gardeners. \n  \nRegistration is required for attendance. More than one person from your household can come to the workshop with the purchase of one barrel/ticket\, but only one barrel/ticket per household please. \nRain barrel information: These rain barrels are discounted from $70 to $45. Barrels are 50 gallons and made from previously used food safe storage containers. The barrels will vary in color and will probably be blue but could also be white or black. You do not get to choose your barrel color. The barrels have been prepped by the Tarrant County Master Gardeners in the same fashion as demonstrated in the workshop. Approximate dimensions are 35 inches tall by 124 inches diameter. \n  \nThis event is brought to you by the Tarrant County Master Gardeners and Tarrant Regional Water District. To learn more about TRWD’s water conservation efforts and water-saving tips\, visit SaveTarrantWater.com. To learn more about TRWD’s mission and the work that we do\, visit TRWD.com.
URL:https://savetarrantwater.com/event/diy-rainwater-harvesting-workshop-3/
LOCATION:Water Works Learning Center\, 1801 Circle Drive\, Fort Worth\, TX\, 76119\, United States
ATTACH;FMTTYPE=image/png:https://savetarrantwater.com/wp-content/uploads/2023/03/3.11.2023-DIY-RWH-TCMGA-SM.png
END:VEVENT
BEGIN:VEVENT
DTSTART;TZID=America/Chicago:20230315T120000
DTEND;TZID=America/Chicago:20230315T140000
DTSTAMP:20260422T060118
CREATED:20230124T192301Z
LAST-MODIFIED:20230228T181827Z
UID:4626-1678881600-1678888800@savetarrantwater.com
SUMMARY:Adopt A Plant
DESCRIPTION:Come learn about smart gardening and adopt veggie plants to take home to start your vegetable garden! \n  \nNo registration required. First come\, first served. \n  \nVisit SaveTarrantWater.com/events to learn about other events like this! \nThis event is brought to you by Arlington Water Utilities\, Arlington Libraries\, and Tarrant Regional Water District. To learn more about TRWD’s water conservation efforts and water-saving tips\, visit SaveTarrantWater.com. To learn more about TRWD’s mission and the work that we do\, visit TRWD.com.
URL:https://savetarrantwater.com/event/adopt-a-plant-4/
LOCATION:Arlington Southeast Library\, 900 SE Green Oaks Blvd\, Arlington\, TX\, 76018\, United States
ATTACH;FMTTYPE=image/png:https://savetarrantwater.com/wp-content/uploads/2023/01/3.15.2023-Adopt-a-Plant-Veg-Arlington-SM-1.png
END:VEVENT
BEGIN:VEVENT
DTSTART;TZID=America/Chicago:20230316T180000
DTEND;TZID=America/Chicago:20230316T190000
DTSTAMP:20260422T060118
CREATED:20230208T161308Z
LAST-MODIFIED:20230227T191152Z
UID:4664-1678989600-1678993200@savetarrantwater.com
SUMMARY:Gardening for Monarch Butterflies
DESCRIPTION:Invite Monarch butterflies to your home by creating a Monarch garden! \nJoin our free class to learn how! \nRegister here: https://MonarchGarden.eventbrite.com   \nFill your garden with beautiful Monarchs by choosing the right plants and features to add to your home landscape. By creating a Monarch garden\, you can help Monarch butterflies refuel and recharge as they fly through North Texas during their migration to and from Mexico. \nLearn about: \n\nThe types of plants to plant to attract Monarch butterflies\nThe type of features to add to attract Monarch butterflies\nHow to design a Monarch garden\nHow to choose the right Milkweeds for North Texas\nRequirements for creating a Monarch Waystation\nHow to distinguish a Monarch butterfly from its mimics\n\nAttend this class to get a $20 rebate on your spring Go N Grow Garden!  \nPurchase a Go N Grow Texas Tough Native Garden here: GO N GROW: Texas Tough Native Garden – April 1 Pickup Date | Rooted In \nWe recommend you do not wait until the class to buy a Go N Grow Garden. They will likely be sold out by then! \nRebates for Tarrant County residents only. One rebate per household. Rebate limited to first 100 eligible submissions. To be eligible\, you must attend the entire class. After attending the class\, a rebate application will be emailed to the email address you registered for the class with. \n  \nThis is a free online event. Register here to receive information on how to participate.  \nAfter registering\, check your email for instructions on how to join the live online event. \n  \nVisit SaveTarrantWater.com/events to learn about other events like this! \nThis event is brought to you by Tarrant Regional Water District. To learn more about TRWD’s mission and the work that we do\, visit TRWD.com.
URL:https://savetarrantwater.com/event/gardening-for-monarch-butterflies/
LOCATION:Online
ATTACH;FMTTYPE=image/png:https://savetarrantwater.com/wp-content/uploads/2023/02/3.16.2023-Gardening-for-Monarch-Butterflies-TRWD-SM-with-rebate.png
END:VEVENT
BEGIN:VEVENT
DTSTART;TZID=America/Chicago:20230316T180000
DTEND;TZID=America/Chicago:20230316T190000
DTSTAMP:20260422T060118
CREATED:20230224T212930Z
LAST-MODIFIED:20230227T213546Z
UID:4707-1678989600-1678993200@savetarrantwater.com
SUMMARY:Gardening Around the Year
DESCRIPTION:You can have a beautiful landscape all Around the Year! \nFree! Register here: https://garden_allyear.eventbrite.com \n\nStruggling to keep your garden in tip top shape year-round? The needs of your landscape often change from season to season but it doesn’t have to be complicated—we’ve got your back! Keep your garden looking beautiful and efficient by learning all the tips and tricks on maintaining your landscape for each month of the year in North Texas.  \nThis is a free online event. Register to receive information on how to participate.  \nThe class will be 45 minutes long and taught by a Tarrant County Master Gardener. \nAfter registering\, check your email for instructions on how to join the virtual event. \n  \nThis event is brought to you by the City of North Richland Hills and Tarrant Regional Water District.
URL:https://savetarrantwater.com/event/gardening-around-the-year/
LOCATION:Online
ATTACH;FMTTYPE=image/png:https://savetarrantwater.com/wp-content/uploads/2023/02/3.16.2023-Gardening-Around-the-Year-NRH-SM.png
END:VEVENT
BEGIN:VEVENT
DTSTART;TZID=America/Chicago:20230318T100000
DTEND;TZID=America/Chicago:20230318T110000
DTSTAMP:20260422T060118
CREATED:20230208T162132Z
LAST-MODIFIED:20230208T162234Z
UID:4671-1679133600-1679137200@savetarrantwater.com
SUMMARY:DIY Sprinkler Repair - Mansfield
DESCRIPTION:If you haven’t checked out your sprinkler system lately\, there might be some issues that are easily fixed. \nJoin our free workshop to learn all about the basics of a home sprinkler system and how to fix most common issues on your own! \nRegister here: https://sprinkler_repair.eventbrite.com \nJust in time for Fix a Leak Week\, walk through common breaks and sources of inefficiency\, then learn how to fix them all with minimal tools and time. \nAttend this free workshop to learn more about \n\nAll the parts of a typical home sprinkler system\nHow to determine how much water your system uses\nHow to see if your system has uneven coverage\nHow to program your controller\nHow to adjust heads and maintain your system\nHow to check your system for leaks\nHow to make easy DIY repairs\n\nTake home a free sprinkler test kit when you attend this class!  \nThe class will be 45 minutes long and taught by a team of irrigation experts. \nVisit SaveTarrantWater.com/events to learn about other events like this! \nThis event is brought to you by Mansfield Water Utilities and Tarrant Regional Water District. To learn more about TRWD’s mission and the work that we do\, visit TRWD.com.
URL:https://savetarrantwater.com/event/diy-sprinkler-repair-mansfield/
LOCATION:Chris W. Burkett Mansfield Service Center\, 620 S Wisteria St\, Mansfield\, TX\, 76063\, United States
ATTACH;FMTTYPE=image/png:https://savetarrantwater.com/wp-content/uploads/2023/02/3.18.2023-Sprinkler-Repair-Mansfield-SM.png
END:VEVENT
BEGIN:VEVENT
DTSTART;TZID=America/Chicago:20230321T180000
DTEND;TZID=America/Chicago:20230321T190000
DTSTAMP:20260422T060118
CREATED:20230223T215022Z
LAST-MODIFIED:20230223T215022Z
UID:4699-1679421600-1679425200@savetarrantwater.com
SUMMARY:Fix a Leak Week Indoor Leaks
DESCRIPTION:Toilet running? Faucet dripping? Got a leak you aren’t sure how to fix? \nJoin our free webinar to learn how to DIY! Register here: http://www.FALWI.eventbrite.com \nJust in time for Fix a Leak Week\, walk through common home plumbing issues and sources of water waste\, then see how to fix them yourself. You don’t need a bunch of special tools or knowledge to fix minor plumbing problems in your own house. \nThis event will cover: \n\nTools needed for common fixes\nDetecting leaks\nEmergency water shut-offs\nHow to check your toilet for leaks\nEasily fixing common toilet issues\nReplacing a leaking fixture\nRepairing a leaking faucet\nQuestion and answer segments with indoor leak professionals\nAnd more!\n\nHouston Public Works\, Dallas Water Utilities\, Fort Worth Water\, City of Frisco\, San Antonio Water System\, North Texas Municipal Water District\, and Tarrant Regional Water District are bringing together a virtual class line-up featuring some of the leaders in the leak repair industry\, providing comprehensive information about repairing simple water leaks. This is a DIY event you will not want to miss! \nDon’t miss the Outdoor Leaks online class on March 23! Register here: http://www.FALWO.eventbrite.com \nLearn more about Fix a Leak Week here: https://www.epa.gov/watersense/fix-leak-week \nVisit SaveTarrantWater.com/events to learn about other events like this! \nThis event is brought to you by EPA WaterSense\, Houston Public Works\, the City of Fort Worth\, Dallas Water Utilities\, North Texas Municipal Water District\, the City of Frisco\, San Antonio Water System\, and Tarrant Regional Water District.
URL:https://savetarrantwater.com/event/fix-a-leak-week-indoor-leaks/
LOCATION:Online
ATTACH;FMTTYPE=image/png:https://savetarrantwater.com/wp-content/uploads/2023/02/3.21.2023-FALW-Indoor-Image.png
END:VEVENT
BEGIN:VEVENT
DTSTART;TZID=America/Chicago:20230322T180000
DTEND;TZID=America/Chicago:20230322T190000
DTSTAMP:20260422T060118
CREATED:20230208T161632Z
LAST-MODIFIED:20230208T161632Z
UID:4667-1679508000-1679511600@savetarrantwater.com
SUMMARY:DIY Sprinkler Repair - Bedford
DESCRIPTION:If you haven’t checked out your sprinkler system lately\, there might be some issues that are easily fixed. \nJoin our free workshop to learn all about the basics of a home sprinkler system and how to fix most common issues on your own! \nRegister here: https://sprinkler-repair.eventbrite.com \nJust in time for Fix a Leak Week\, walk through common breaks and sources of inefficiency\, then learn how to fix them all with minimal tools and time. \nAttend this free workshop to learn more about \n\nAll the parts of a typical home sprinkler system\nHow to determine how much water your system uses\nHow to see if your system has uneven coverage\nHow to program your controller\nHow to adjust heads and maintain your system\nHow to check your system for leaks\nHow to make easy DIY repairs\n\nTake home a free sprinkler test kit when you attend this class!  \nThe class will be 45 minutes long and taught by a team of irrigation experts. \nVisit SaveTarrantWater.com/events to learn about other events like this! \nThis event is brought to you by the City of Bedford and Tarrant Regional Water District. To learn more about TRWD’s mission and the work that we do\, visit TRWD.com.
URL:https://savetarrantwater.com/event/diy-sprinkler-repair-bedford/
LOCATION:Bedford Library\, 2424 Forest Ridge Dr\, Bedford\, TX\, 76021\, United States
ATTACH;FMTTYPE=image/png:https://savetarrantwater.com/wp-content/uploads/2023/02/3.23.2023-Sprinkler-Repair-Bedford-SM-1.png
END:VEVENT
BEGIN:VEVENT
DTSTART;TZID=America/Chicago:20230323T180000
DTEND;TZID=America/Chicago:20230323T190000
DTSTAMP:20260422T060118
CREATED:20230223T220618Z
LAST-MODIFIED:20230223T220618Z
UID:4703-1679594400-1679598000@savetarrantwater.com
SUMMARY:Fix a Leak Week Outdoor Leaks
DESCRIPTION:If you haven’t checked out your sprinkler system lately\, there might some issues that are easily fixed. \nJoin our free virtual workshop to learn all about the basics of a home sprinkler system and how to fix the most common issues on your own! \nRegister here: http://www.FALWO.eventbrite.com \nJust in time for Fix a Leak Week\, learn to identify common irrigation issues\, sources of inefficiency\, pool leaks\, outdoor faucet leaks\, and more. Then let experts show you how to repair these leaks with minimal tools and time. \nThis event will cover: \n\nIrrigation quick fixes\nAll the parts of a typical home sprinkler system\nHow to adjust sprinkler heads and maintain your system\nHow to check your system for leaks\nFixing a leaky outdoor faucet\nPool leaks\nHow to make easy DIY repairs\nQuestion and answer segments with irrigation professionals\nAnd more!\n\nHouston Public Works\, Dallas Water Utilities\, Fort Worth Water\, City of Frisco\, San Antonio Water System\, North Texas Municipal Water District\, and Tarrant Regional Water District are bringing together a virtual class line-up featuring some of the leaders in the leak repair industry\, providing comprehensive information about repairing simple water leaks. This is a DIY event you will not want to miss! \nDon’t miss the Indoor Leaks online class on March 21! Register here: http://www.FALWI.eventbrite.com \nLearn more about Fix a Leak Week here: https://www.epa.gov/watersense/fix-leak-week \nVisit SaveTarrantWater.com/events to learn about other events like this! \nThis event is brought to you by EPA WaterSense\, Houston Public Works\, the City of Fort Worth\, Dallas Water Utilities\, North Texas Municipal Water District\, the City of Frisco\, San Antonio Water System\, and Tarrant Regional Water District.
URL:https://savetarrantwater.com/event/fix-a-leak-week-outdoor-leaks/
LOCATION:Online
ATTACH;FMTTYPE=image/png:https://savetarrantwater.com/wp-content/uploads/2023/02/3.23.2023-FALW-Outdoor-Image.png
END:VEVENT
BEGIN:VEVENT
DTSTART;TZID=America/Chicago:20230401T080000
DTEND;TZID=America/Chicago:20230401T110000
DTSTAMP:20260422T060118
CREATED:20230306T170629Z
LAST-MODIFIED:20230306T170629Z
UID:4724-1680336000-1680346800@savetarrantwater.com
SUMMARY:DIY Rainwater Harvesting
DESCRIPTION:Capture water while it is raining this spring to use on your landscape later! \nJoin our free online class to learn how! Then\, purchase a discounted rain barrel to take home! \nRegister here: https://Rainwater_Harvest.eventbrite.com  \nRainwater harvesting is great for North Texas because you can keep some of the rain we get during the spring and fall to use during our hot and dry summers. Even a small roof area can produce a usable amount of water during an average rainfall. From huge cisterns to small DIY barrels\, capturing rainwater can be done by anyone. \nAttend this workshop to learn the ins and outs of rainwater harvesting and purchase a discounted barrel to take home! \nLearn about: \n\nHow much water your roof will produce in a year\nWhere to put your rain barrel to capture the most water\nHow to install a barrel\nHow to hook up and use your new water source\nHow to build your own 50 gallon rain barrel with just a few supplies from the hardware store\n\nThis Workshop is for Tarrant County Residents Only. \n  \nThis is a free online event\, with an optional purchase. The online workshop will be available on-demand March 24 to March 31. Register here to receive information on how to participate. \nThe workshop will be 45 minutes long and taught by Tarrant County Master Gardeners. \nAfter registering\, check your email for instructions on how to join the online event. \nYour registration is not complete until you click the link sent to your email a few days before the event. \n  \nA 50-gallon rain barrel can be purchased for the discounted rate of $45. Barrels will be available for pick up at the Tarrant County Resource Connection\, Fort Worth\, Texas from 8am to 11am on April 1st. \n  \nThere are two options for this event. Please be sure to select the registration type that corresponds with your choice. \nFree registration: Get access to the online workshop only. You will get access to the online presentation about rainwater harvesting and the DIY rain barrel building\, but will not get a rain barrel to take home. \n$45 registration: Get access to the online workshop and take home a rain barrel. You will get access to the online presentation about rainwater harvesting and the DIY rain barrel building demonstration\, and a rain barrel will be reserved for pick up on April 1st. There are a limited number of barrels available\, so register now to reserve yours! \nAttending the workshop is a requirement to get the barrel discount! You must have watched the online workshop to receive your barrel. This is an educational opportunity and the discounted barrel is only being offered as part of the educational workshop. \n  \nRegistration is required for attendance. More than one person from your household can come to the workshop with the purchase of one barrel/ticket\, but only one barrel/ticket per household please. \nRain barrel information: These rain barrels are discounted from $70 to $45. Barrels are 50 gallons and made from previously used food safe storage containers. The barrels will vary in color and will probably be blue but could also be white or black. You do not get to choose your barrel color. The barrels have been prepped by the Tarrant County Master Gardeners in the same fashion as demonstrated in the workshop. Approximate dimensions are 35 inches tall by 24 inches diameter. \nOne barrel per household. The address you register with must be located in Tarrant County to be eligible to purchase a barrel. Any orders that do not comply with restrictions may be cancelled at TRWD’s discretion. \nIf you register and do not come to the class\, you will NOT be issued a refund and you will NOT be able to pick up your barrel. Your barrel will be donated to a local gardening project. If you find you cannot attend the class\, cancel your ticket\, and request a refund BEFORE the class. You will be refunded the ticket price\, minus non-refundable Eventbrite processing fees. \nPick up information: Barrels will be available for pick up for those who register at Tarrant County Resource Connection\, 1801 Circle Drive\, Fort Worth\, Texas from 8am to 11am on April 1st. Check your email after purchase for more information. \n  \nAny orders that do not comply with restrictions may be cancelled at TRWD’s discretion. \n  \nVisit SaveTarrantWater.com/events to learn about other events like this! \nThis event is brought to you by Tarrant Regional Water District. To learn more about TRWD’s water conservation efforts and water-saving tips\, visit SaveTarrantWater.com. To learn more about TRWD’s mission and the work that we do\, visit TRWD.com.
URL:https://savetarrantwater.com/event/diy-rainwater-harvesting-5/
LOCATION:Water Works Learning Center\, 1801 Circle Drive\, Fort Worth\, TX\, 76119\, United States
ATTACH;FMTTYPE=image/png:https://savetarrantwater.com/wp-content/uploads/2023/03/4.1.2023-DIY-RWH-and-Pick-Up-TRWD-SM.png
END:VEVENT
END:VCALENDAR