BEGIN:VCALENDAR
VERSION:2.0
PRODID:-//Save Tarrant Water - ECPv5.2.0//NONSGML v1.0//EN
CALSCALE:GREGORIAN
METHOD:PUBLISH
X-WR-CALNAME:Save Tarrant Water
X-ORIGINAL-URL:https://savetarrantwater.com
X-WR-CALDESC:Events for Save Tarrant Water
BEGIN:VTIMEZONE
TZID:America/Chicago
BEGIN:DAYLIGHT
TZOFFSETFROM:-0600
TZOFFSETTO:-0500
TZNAME:CDT
DTSTART:20230312T080000
END:DAYLIGHT
BEGIN:STANDARD
TZOFFSETFROM:-0500
TZOFFSETTO:-0600
TZNAME:CST
DTSTART:20231105T070000
END:STANDARD
END:VTIMEZONE
BEGIN:VEVENT
DTSTART;TZID=America/Chicago:20230204T120000
DTEND;TZID=America/Chicago:20230204T140000
DTSTAMP:20260422T072058
CREATED:20230113T201406Z
LAST-MODIFIED:20230124T182041Z
UID:4583-1675512000-1675519200@savetarrantwater.com
SUMMARY:DIY Rainwater Harvesting and Barrel Building Workshop - ARLINGTON
DESCRIPTION:Capture water while it is raining now to use on your landscape later! \nJoin our workshop to learn how\, then build your own rain barrel to take home! \nRegistration is required for attendance. https://ARLINGTONRAIN.eventbrite.com \nRainwater harvesting is great for North Texas because you can keep some of the rain we get during the spring and fall to use during our hot and dry summers. Even a small roof area can produce a usable amount of water during an average rainfall. From huge cisterns to small DIY barrels\, capturing rainwater can be done by anyone. Attend this workshop to learn the ins and outs of rainwater harvesting and purchase a discounted barrel to take home! \nLearn about: \n\nHow much water your roof will produce in a year\nWhere to put your rain barrel to capture the most water\nHow to install a barrel\nHow to hook up and use your new water source\nHow to build your own 50 gallon rain barrel with just a few supplies from the hardware store\n\nThis Workshop is for Arlington\, Texas Residents Only. \nThis workshop is in-person and includes a class about rainwater harvesting basics and a demonstration on how to build a barrel. After the class portion\, you will get to build their own rain barrel to take home. This is an educational opportunity and class attendance is required to get a barrel. \nMore than one person from your household can come to the workshop with the purchase of one barrel/ticket\, but only one barrel/ticket per household please. \nRain barrel information: These rain barrels are discounted from $70 to $30. Barrels are 50 gallons and made from previously used food safe storage containers. The barrels will vary in color and will probably be blue but could also be white or black. You do not get to choose your barrel color. The barrels have been prepped by the Tarrant County Master Gardeners in the same fashion as demonstrated in the workshop. Approximate dimensions are 35 inches tall by 24 inches diameter. \nOne barrel per household. The address you register with must be located in Arlington\, Texas to be eligible to purchase a barrel and attend the class. Any orders that do not comply with restrictions may be cancelled at TRWD’s discretion. \nIf you register and do not come to the class\, you will NOT be issued a refund and you will NOT be able to pick up your barrel. Your barrel will be donated to a local gardening project. If you find you cannot attend the class\, cancel your ticket and request a refund BEFORE the class. You will be refunded the ticket price\, minus non-refundable Eventbrite processing fees. \nThe workshop will be taught by Tarrant County Master Gardeners.
URL:https://savetarrantwater.com/event/rwh-arlington/
LOCATION:Arlington Downtown Library\, 100 S Center St\, Arlington\, TX\, 76010\, United States
ATTACH;FMTTYPE=image/png:https://savetarrantwater.com/wp-content/uploads/2023/01/2.4.2023-DIY-RWH-Arlingtion-SM-1.png
END:VEVENT
BEGIN:VEVENT
DTSTART;TZID=America/Chicago:20230208T173000
DTEND;TZID=America/Chicago:20230208T183000
DTSTAMP:20260422T072058
CREATED:20221022T155608Z
LAST-MODIFIED:20221022T155608Z
UID:4380-1675877400-1675881000@savetarrantwater.com
SUMMARY:Tough Plants for North Texas
DESCRIPTION:In North Texas it is important to choose hearty plants for a healthy landscape. Plants native to Texas or adapted to dry conditions thrive in our climate. Learn about the best native and adapted plants for North Texas landscapes\, garden design\, and maintenance. \n  \nMore information: News Flash • North Richland Hills Library\, TX • CivicEngage (nrhtx.com) \n  \nThis event is brought to you by North Richland Hills and Tarrant Regional Water District
URL:https://savetarrantwater.com/event/tough-plants-for-north-texas-3/
LOCATION:North Richland Hills Library\, 9015 Grand Ave\, North Richland Hills\, TX\, 76180\, United States
ATTACH;FMTTYPE=image/png:https://savetarrantwater.com/wp-content/uploads/2022/10/2.8.2023-Tough-Texas-Plants-NRH-SM.png
END:VEVENT
BEGIN:VEVENT
DTSTART;TZID=America/Chicago:20230211T090000
DTEND;TZID=America/Chicago:20230211T110000
DTSTAMP:20260422T072058
CREATED:20230206T161707Z
LAST-MODIFIED:20230206T161707Z
UID:4650-1676106000-1676113200@savetarrantwater.com
SUMMARY:Drip Irrigation
DESCRIPTION:Have you been thinking about converting to drip irrigation\, but don’t know where to start? \nIt’s easier than you think! \nJoin this free workshop to learn how to set up your yard with drip irrigation! \nTCMGA 2023 EDUCATION CLASSES – TCMGA ONLINE SHOPPING SITE \nDrip irrigation allows water to slowly seep into the soil\, giving your plants a more thorough watering\, all while using less water. Walk through the ins and outs of drip irrigation\, then learn how to easily convert your existing home sprinklers to drip. \nAttend this free workshop to learn more about \n\nAll the parts of a typical home sprinkler system and a drip system\nHow to determine how much water your system uses\nHow to program your controller\nHow to switch out your heads for drip\nHow to install your drip lines\nHow to make easy DIY repairs\nHow to change your watering techniques to use your new drip system\n\n  \nThis is a free workshop. Register to receive information on how to participate. \n  \n  \nVisit SaveTarrantWater.com/events to learn about other events like this! \nThis event is brought to you by the Tarrant County Master Gardeners and Tarrant Regional Water District. To learn more about TRWD’s water conservation efforts and water-saving tips\, visit SaveTarrantWater.com. To learn more about TRWD’s mission and the work that we do\, visit TRWD.com.
URL:https://savetarrantwater.com/event/drip-irrigation-3/
LOCATION:Water Works Learning Center\, 1801 Circle Drive\, Fort Worth\, TX\, 76119\, United States
ATTACH;FMTTYPE=image/png:https://savetarrantwater.com/wp-content/uploads/2023/02/2.11.2023-Drip-Irrigation-TCMGA-SM.png
END:VEVENT
BEGIN:VEVENT
DTSTART;TZID=America/Chicago:20230218T090000
DTEND;TZID=America/Chicago:20230218T120000
DTSTAMP:20260422T072058
CREATED:20221222T173559Z
LAST-MODIFIED:20221222T173949Z
UID:4531-1676710800-1676721600@savetarrantwater.com
SUMMARY:NRH Common Ground Spring Gardening Seminar
DESCRIPTION:Join us at the North Richland Hills Spring Gardening Seminar for fun fall gardening giveaways and plenty of gardening info! \nFeaturing presentations from Meteorologist Jeff Ray and Kyle Krystynik representing Russell Feed. \nPresentations by gardening experts. Partners and sponsors will be on site. \nLight refreshments and giveaways will be provided! Door prizes! \nFREE AND OPEN TO THE PUBLIC \nMore info here: www.nrhcommunitygarden.com 
URL:https://savetarrantwater.com/event/common-ground-spring23/
LOCATION:Grand Hall at North Richland Hills Centre\, 6000 Hawk Ave\, North Richland Hills\, TX\, 76180\, United States
ATTACH;FMTTYPE=image/png:https://savetarrantwater.com/wp-content/uploads/2022/12/NRH-Gardening-SM.png
END:VEVENT
BEGIN:VEVENT
DTSTART;TZID=America/Chicago:20230218T090000
DTEND;TZID=America/Chicago:20230218T140000
DTSTAMP:20260422T072058
CREATED:20230206T174839Z
LAST-MODIFIED:20230206T174839Z
UID:4656-1676710800-1676728800@savetarrantwater.com
SUMMARY:Spring Earth-Kind Workshop
DESCRIPTION:Join the Spring Earth-Kind Workshop to learn about: \n\nWater conservation\nSoils\nPlant Selection\nLandscape Design\n\nSnacks and drinks will be provided. Please feel free to bring lunch! \nGiveaways and a door prize will be given away during the workshop. \nRegister here: Products – TCMGA ONLINE SHOPPING SITE
URL:https://savetarrantwater.com/event/spring-earth-kind-workshop/
LOCATION:Water Works Learning Center\, 1801 Circle Drive\, Fort Worth\, TX\, 76119\, United States
ATTACH;FMTTYPE=image/png:https://savetarrantwater.com/wp-content/uploads/2023/02/2.18.2023-Spring-Earthkind-TCMGA-SM.png
END:VEVENT
BEGIN:VEVENT
DTSTART;TZID=America/Chicago:20230219T080000
DTEND;TZID=America/Chicago:20230225T200000
DTSTAMP:20260422T072058
CREATED:20230124T202823Z
LAST-MODIFIED:20230124T202823Z
UID:4628-1676793600-1677355200@savetarrantwater.com
SUMMARY:Vegetable Gardening
DESCRIPTION:Grow your own food at home with the best vegetables for North Texas gardens! \nFree! Register here: https://veg-garden.eventbrite.com \n  \nNorth Texas has a long growing season that accommodates many different types of vegetables. Growing your own at home can be easy when you know what to plant and how to care for them to get the juiciest harvests. \nLearn about: \n\nWhat types of vegetables to plant and when to plant them\nThe best vegetable varieties for North Texas\nWhat type of soil to use and how to prepare your site\nHow to care for your vegetable plants\nHow and when to harvest your veggies for the best flavor\n\nThis is a free online event. Register to receive information on how to participate.  \nThe class will be 45 minutes long and taught by a Tarrant County Master Gardener. \n  \nVisit SaveTarrantWater.com/events to learn about other events like this! \nThis event is brought to you by the City of Mansfield and Tarrant Regional Water District. To learn more about TRWD’s water conservation efforts and water-saving tips\, visit SaveTarrantWater.com. To learn more about TRWD’s mission and the work that we do\, visit TRWD.com.
URL:https://savetarrantwater.com/event/vegetable-gardening-5/
LOCATION:Online
ATTACH;FMTTYPE=image/png:https://savetarrantwater.com/wp-content/uploads/2023/01/2.19-25.2023-Vegetable-Gardening-Mansfield-SM.png
END:VEVENT
BEGIN:VEVENT
DTSTART;TZID=America/Chicago:20230223T180000
DTEND;TZID=America/Chicago:20230223T190000
DTSTAMP:20260422T072058
CREATED:20230124T223545Z
LAST-MODIFIED:20230124T223545Z
UID:4631-1677175200-1677178800@savetarrantwater.com
SUMMARY:Natural Home Landscape Design
DESCRIPTION:Create a lush Texas yard by designing your landscape with smart choices and efficiency in mind! \nJoin our free online class to learn how! \nRegister here: https://landscape_design.eventbrite.com \nThe climate in North Texas can be harsh\, but lush home landscapes can be created using the right plants and design principles. Whether you want a traditional suburban yard or an extravagant butterfly garden\, using native Texas plants and resource conscious design principles can help you get the best yard on the block without too much effort. \nLearn about: \n\nThe basic principles of landscape design\nHow to take into account the needs and characteristics of your landscape\nThe best types of plants to plant for various situations\nHow to maintain your landscape and prune plants\nPlants that need less water and maintenance\n\nThis is a free online event. Register to receive information on how to participate.  \nThe class will be 45 minutes long and taught by a Tarrant County Master Gardener. \nAfter registering\, check your email for instructions on how to join the live event. \nVisit SaveTarrantWater.com/events to learn about other events like this! \nThis event is brought to you by Tarrant Regional Water District. To learn more about TRWD’s water conservation efforts and water-saving tips\, visit SaveTarrantWater.com. To learn more about TRWD’s mission and the work that we do\, visit TRWD.com.
URL:https://savetarrantwater.com/event/natural-home-landscape-design/
LOCATION:Online
ATTACH;FMTTYPE=image/png:https://savetarrantwater.com/wp-content/uploads/2023/01/2.23.2023-Natual-Home-Landscape-Design-TRWD-SM-1.png
END:VEVENT
BEGIN:VEVENT
DTSTART;TZID=America/Chicago:20230225T100000
DTEND;TZID=America/Chicago:20230225T120000
DTSTAMP:20260422T072058
CREATED:20230206T161817Z
LAST-MODIFIED:20230206T161817Z
UID:4654-1677319200-1677326400@savetarrantwater.com
SUMMARY:Drip Irrigation
DESCRIPTION:Have you been thinking about converting to drip irrigation\, but don’t know where to start? \nIt’s easier than you think! \nJoin this free workshop to learn how to set up your yard with drip irrigation! \nTCMGA 2023 EDUCATION CLASSES – TCMGA ONLINE SHOPPING SITE \nDrip irrigation allows water to slowly seep into the soil\, giving your plants a more thorough watering\, all while using less water. Walk through the ins and outs of drip irrigation\, then learn how to easily convert your existing home sprinklers to drip. \nAttend this free workshop to learn more about \n\nAll the parts of a typical home sprinkler system and a drip system\nHow to determine how much water your system uses\nHow to program your controller\nHow to switch out your heads for drip\nHow to install your drip lines\nHow to make easy DIY repairs\nHow to change your watering techniques to use your new drip system\n\n  \nThis is a free workshop. Register to receive information on how to participate. \n  \n  \nVisit SaveTarrantWater.com/events to learn about other events like this! \nThis event is brought to you by the Tarrant County Master Gardeners and Tarrant Regional Water District. To learn more about TRWD’s water conservation efforts and water-saving tips\, visit SaveTarrantWater.com. To learn more about TRWD’s mission and the work that we do\, visit TRWD.com.
URL:https://savetarrantwater.com/event/drip-irrigation-4/
LOCATION:Water Works Learning Center\, 1801 Circle Drive\, Fort Worth\, TX\, 76119\, United States
ATTACH;FMTTYPE=image/png:https://savetarrantwater.com/wp-content/uploads/2023/02/2.25.2023-Drip-Irrigation-TCMGA-SM.png
END:VEVENT
BEGIN:VEVENT
DTSTART;TZID=America/Chicago:20230228T180000
DTEND;TZID=America/Chicago:20230228T190000
DTSTAMP:20260422T072058
CREATED:20221222T174335Z
LAST-MODIFIED:20230113T200635Z
UID:4535-1677607200-1677610800@savetarrantwater.com
SUMMARY:Spring Vegetable Gardening
DESCRIPTION:This class is SOLD OUT! \n  \nGrow your own food at home with the best vegetables for North Texas gardens! \nFree! Register here: https://Arlingtonveg.eventbrite.com \n  \nNorth Texas has a long growing season that accommodates many different types of vegetables. Growing your own at home can be easy when you know what to plant and how to care for them to get the juiciest harvests. \nLearn about: \n\nWhat types of vegetables to plant when\nThe best vegetable varieties for North Texas\nWhat type of soil to use and how to prepare your site\nHow to care for your vegetable plants\nHow and when to harvest your veggies for the best flavor\n\nThe class will be 45 minutes long. \nThis event is brought to you by Arlington Water Utilities and Tarrant Regional Water District.
URL:https://savetarrantwater.com/event/spring-veg-gar/
LOCATION:Arlington Downtown Library\, 100 S Center St\, Arlington\, TX\, 76010\, United States
ATTACH;FMTTYPE=image/png:https://savetarrantwater.com/wp-content/uploads/2022/12/2.28.2023-Vegetable-Gardening-Arlington-SM.png
END:VEVENT
BEGIN:VEVENT
DTSTART;TZID=America/Chicago:20230304T090000
DTEND;TZID=America/Chicago:20230304T123000
DTSTAMP:20260422T072058
CREATED:20230124T172445Z
LAST-MODIFIED:20230124T172445Z
UID:4613-1677920400-1677933000@savetarrantwater.com
SUMMARY:Spring YardSmart 2023
DESCRIPTION:YardSmart is a free\, informative conference designed to provide effective\, beneficial ways to use water wisely in the landscape. Topics vary by year and include information about lawns\, trees\, landscapes\, flower and vegetable gardening. Each session will help you maintain a healthy and beautiful landscape more efficiently with less water. \nRegistration is required for YardSmart due to occupancy restraints at the Fort Worth Botanic Garden. \nYardSmart is sponsored by Fort Worth Water and Tarrant Regional Water District. Check out all the other 2023 classes and workshops offered by both entities. \nhttps://www.eventbrite.com/e/spring-2023-yardsmart-conference-tickets-487915708017 \n  \n  \nComienza la temporada de jardinería en YardSmart en Español. Ven y aprende de los expertos sobre las mejores prácticas de los jardines eficientes y mucho más. \nYardSmart en Español es una conferencia gratis e informativa diseñada para ofrecer formas efectivas y benéficas sobre el uso inteligente del agua en los jardines. Los temas varían por año e incluye información relacionada con el pasto\, árboles\, jardines\, flores y verduras. Casa sesión te ayudará a mantener un jardín saludable y hermoso con menos agua. \nDebido a las restricciones de cupo del Jardín Botánico de Fort Worth\, toda persona interesada en asistir necesita inscribirse. \nYardSmart en Español es patrocinado por Fort Worth Agua y Distrito Regional de Agua Tarrant. Revisa la lista de clases y seminaries que ofrecen ambas entidades. \nhttps://www.eventbrite.com/e/yardsmart-en-espanol-primavera-2023-tickets-488005045227
URL:https://savetarrantwater.com/event/spring-yardsmart-2023/
LOCATION:Fort Worth Botanic Gardens\, 3220 Botanic Garden Blvd\, Fort Worth\, TX\, 76107\, United States
ATTACH;FMTTYPE=image/jpeg:https://savetarrantwater.com/wp-content/uploads/2023/01/Twitter.jpg
END:VEVENT
END:VCALENDAR