BEGIN:VCALENDAR
VERSION:2.0
PRODID:-//Save Tarrant Water - ECPv5.2.0//NONSGML v1.0//EN
CALSCALE:GREGORIAN
METHOD:PUBLISH
X-WR-CALNAME:Save Tarrant Water
X-ORIGINAL-URL:https://savetarrantwater.com
X-WR-CALDESC:Events for Save Tarrant Water
BEGIN:VTIMEZONE
TZID:America/Chicago
BEGIN:DAYLIGHT
TZOFFSETFROM:-0600
TZOFFSETTO:-0500
TZNAME:CDT
DTSTART:20220313T080000
END:DAYLIGHT
BEGIN:STANDARD
TZOFFSETFROM:-0500
TZOFFSETTO:-0600
TZNAME:CST
DTSTART:20221106T070000
END:STANDARD
END:VTIMEZONE
BEGIN:VEVENT
DTSTART;TZID=America/Chicago:20221103T180000
DTEND;TZID=America/Chicago:20221103T190000
DTSTAMP:20260422T110010
CREATED:20221003T154042Z
LAST-MODIFIED:20221003T154042Z
UID:4312-1667498400-1667502000@savetarrantwater.com
SUMMARY:Texas Trees
DESCRIPTION:Fall is the perfect time to plant a tree! \nJoin our free online class to learn about the best trees for North Texas homes! \nRegister here: https://TreesNRH.eventbrite.com \nTrees can be amazingly beautiful and create a focal point for our home landscapes. There is such a wide variety of trees\, it can be hard to determine which type to plant. Learn which trees work best for your North Texas home landscape. Since trees get so large and are long-lived\, it is important to plant the right tree in the right spot. Learn about the right types of trees to plant for different situations and landscapes. \nTrees provide beauty and much needed shade in our hot North Texas summers. Planting a tree can provide a habitat for birds\, reduce the temperature of your house\, and maybe even produce fruit. Attend our class to learn about planting a tree today and give a gift to future generations. \nJust in time for Arbor Day! \nThis is a free online event. Register here to receive information on how to participate.  \nThe class will be 1 hour long and taught by a Tarrant County Master Gardener. \nStick around after the presentation for a live Q+A session. \n  \nAfter registering\, check your email for instructions on how to join the live event. \n  \nThis event is brought to you by North Richland Hills and Tarrant Regional Water District.
URL:https://savetarrantwater.com/event/texas-trees/
LOCATION:Online
ATTACH;FMTTYPE=image/png:https://savetarrantwater.com/wp-content/uploads/2022/10/11.3.2022-Texas-Trees-NRH-SM.png
END:VEVENT
BEGIN:VEVENT
DTSTART;TZID=America/Chicago:20221105T103000
DTEND;TZID=America/Chicago:20221105T113000
DTSTAMP:20260422T110010
CREATED:20221012T193535Z
LAST-MODIFIED:20221012T193535Z
UID:4349-1667644200-1667647800@savetarrantwater.com
SUMMARY:DIY Rainwater Harvesting - Haltom City
DESCRIPTION:Capture water while it is raining to use on your landscape later! \nJoin the workshop to learn the basics of DIY Rainwater Harvesting and build your own barrel to take home! \nRegister here: https://HCRain.eventbrite.com \nRainwater harvesting is great for North Texas because you can keep some of the rain we get during the spring and fall to use during our hot and dry summers. Even a small roof area can produce a usable amount of water during an average rainfall. From huge cisterns to small DIY barrels\, capturing rainwater can be done by anyone. \nLearn about: \n\nHow much water your roof will produce in a year\nWhere to put your rain barrel to capture the most water\nHow to install a barrel\nHow to hook up and use your new water source\nHow to build your own 50 gallon rain barrel with just a few supplies from the hardware store\n\nHaltom City\, Texas Residents: Register for the workshop to build a rain barrel to take home for only $25! \nThis workshop is in-person and includes a class about rainwater harvesting basics and a demonstration on how to build a barrel. After the class portion\, you will get to build their own rain barrel to take home.  \n  \nThis Workshop is for Haltom City\, Texas Residents Only. \nMore info on registration page.
URL:https://savetarrantwater.com/event/diy-rainwater-harvesting-haltom-city/
LOCATION:Haltom City Senior Center\, 3201 Friendly Ln\, Haltom City\, TX\, 76117\, United States
ATTACH;FMTTYPE=image/png:https://savetarrantwater.com/wp-content/uploads/2022/10/11.5.2022-DIY-RWH-Haltom-City-SM.png
END:VEVENT
BEGIN:VEVENT
DTSTART;TZID=America/Chicago:20221109T173000
DTEND;TZID=America/Chicago:20221109T183000
DTSTAMP:20260422T110010
CREATED:20221022T155115Z
LAST-MODIFIED:20221022T155115Z
UID:4370-1668015000-1668018600@savetarrantwater.com
SUMMARY:Dirty Work
DESCRIPTION:Soils and Site Preparation- Gardening advice often focuses on design and plant choice\, but site choice\, site preparation\, and landscape maintenance are also important factors in creating a thriving landscape. Learn how to test your soil\, choose the right native plants for the site\, prepare the site before installation\, and maintain your landscape to keep it thriving. \nMore information: News Flash • North Richland Hills Library\, TX • CivicEngage (nrhtx.com) \n  \nThis event is brought to you by North Richland Hills and Tarrant Regional Water District.
URL:https://savetarrantwater.com/event/dirty-work/
LOCATION:North Richland Hills Library\, 9015 Grand Ave\, North Richland Hills\, TX\, 76180\, United States
ATTACH;FMTTYPE=image/png:https://savetarrantwater.com/wp-content/uploads/2022/10/11.9.2022-Dirty-Work-NRH-SM.png
END:VEVENT
BEGIN:VEVENT
DTSTART;TZID=America/Chicago:20221112T080000
DTEND;TZID=America/Chicago:20221112T140000
DTSTAMP:20260422T110010
CREATED:20221012T203229Z
LAST-MODIFIED:20221107T180403Z
UID:4354-1668240000-1668261600@savetarrantwater.com
SUMMARY:Lake Arlington Garden Wildflower Meadow Seeding
DESCRIPTION:Arlington Water Utilities and Tarrant Regional Water District have partnered to create a native plant demonstration garden with 2\,000 sq. ft. of flowering native perennials and grasses on city-owned land adjacent to the Lake Arlington Dam. We will be seeding a native wildflower meadow in the surrounding 3 acres in November. \nWe’ll need lots of volunteers to spread native grass and wildflower seed on 2 acres of field. Please join us in creating a wildflower meadow at Lake Arlington spillway! \nRegister here: https://LAGSeed.eventbrite.com \nVolunteers will be helping prepare the land and spread native wildflower and grass seeds. \nThere are 3 time slots available. You can sign up for as many as you like. \n8am to 10am \n10am to 12pm \n12pm to 2pm \n  \nAll necessary equipment will be provided. \n  \nWatch your email for more information and a release form after you register. \nThe site is owned by Arlington Water Utilities and only accessible with permission via a gated entrance.
URL:https://savetarrantwater.com/event/lake-arlington-garden-wildflower-meadow-seeding/
LOCATION:Lake Arlington Garden\, 5500 Lake Arlington Drive\, Arlington\, TX\, 76013\, United States
ATTACH;FMTTYPE=image/png:https://savetarrantwater.com/wp-content/uploads/2022/10/LAG-Seeding-1.png
END:VEVENT
BEGIN:VEVENT
DTSTART;TZID=America/Chicago:20221112T120000
DTEND;TZID=America/Chicago:20221112T140000
DTSTAMP:20260422T110010
CREATED:20220920T173855Z
LAST-MODIFIED:20220920T173855Z
UID:4288-1668254400-1668261600@savetarrantwater.com
SUMMARY:Building Insect Houses
DESCRIPTION:Arlington residents: Build your own insect hotel! \nJoin our free workshop to learn how!: https://InsectHouses.eventbrite.com \nWildlife – including insects – need places to hide\, escape and rest\, but habitat loss has reduced their natural options. Help them out by creating a hotel for your own backyard! \nMake your own hotel during the class to bring home and feature in your North Texas yard! \nThis is a free workshop\, but registration is required. This workshop is for Arlington\, Texas residents only. \nThe class will be 1 hour long and taught by a Tarrant County Master Gardener. \nVisit SaveTarrantWater.com/events to learn about other events like this! \nThis event is brought to you by Arlington Library and Tarrant Regional Water District.
URL:https://savetarrantwater.com/event/building-insect-houses/
LOCATION:Arlington Downtown Library\, 100 S Center St\, Arlington\, TX\, 76010\, United States
ATTACH;FMTTYPE=image/png:https://savetarrantwater.com/wp-content/uploads/2022/09/11.12.2022-Insect-Houses-Arlington-SM-1.png
END:VEVENT
BEGIN:VEVENT
DTSTART;TZID=America/Chicago:20221203T100000
DTEND;TZID=America/Chicago:20221203T120000
DTSTAMP:20260422T110010
CREATED:20221012T192536Z
LAST-MODIFIED:20221012T192536Z
UID:4347-1670061600-1670068800@savetarrantwater.com
SUMMARY:Winter Preparedness Part II
DESCRIPTION:Part II covers Winter Plant Management \nThe Earth-Kind Program emphasizes the use of environmentally friendly management practices for landscape design and maintenance. The goals are to conserve water\, energy\, and reduce\nthe use of pesticides and fertilizers while producing beautiful landscapes. \nClasses are free\, but registration is required. Register here: https://docs.google.com/forms/d/e/1FAIpQLSfTDSKObDfvEQNsRBCCjeqrmgdxpB8tDlfXuyOl7p-c7aiBSg/viewform \nTarrant County Master Gardeners are providing Earth-Kind programs twice a month on Saturdays at the Master Gardener Demo Gardens. Please Join us at 1801 Circle Dr. Fort Worth\, TX 76119 from 10am-12pm. \nThe Earth-Kind Class Series is provided by Texas A&M AgriLife Extension and the Tarrant County Master Gardener Association.
URL:https://savetarrantwater.com/event/winter-preparedness-part-ii/
LOCATION:Water Works Learning Center\, 1801 Circle Drive\, Fort Worth\, TX\, 76119\, United States
ATTACH;FMTTYPE=image/png:https://savetarrantwater.com/wp-content/uploads/2022/10/Earthkind-Fall-Image.png
END:VEVENT
END:VCALENDAR