BEGIN:VCALENDAR
VERSION:2.0
PRODID:-//Save Tarrant Water - ECPv5.2.0//NONSGML v1.0//EN
CALSCALE:GREGORIAN
METHOD:PUBLISH
X-WR-CALNAME:Save Tarrant Water
X-ORIGINAL-URL:https://savetarrantwater.com
X-WR-CALDESC:Events for Save Tarrant Water
BEGIN:VTIMEZONE
TZID:America/Chicago
BEGIN:DAYLIGHT
TZOFFSETFROM:-0600
TZOFFSETTO:-0500
TZNAME:CDT
DTSTART:20220313T080000
END:DAYLIGHT
BEGIN:STANDARD
TZOFFSETFROM:-0500
TZOFFSETTO:-0600
TZNAME:CST
DTSTART:20221106T070000
END:STANDARD
END:VTIMEZONE
BEGIN:VEVENT
DTSTART;TZID=America/Chicago:20221008T090000
DTEND;TZID=America/Chicago:20221008T120000
DTSTAMP:20260422T122022
CREATED:20220930T183844Z
LAST-MODIFIED:20220930T183844Z
UID:4304-1665219600-1665230400@savetarrantwater.com
SUMMARY:Fort Worth Monarch Celebration
DESCRIPTION:Come visit us at the Monarch Butterfly Celebration at the Fort Worth Botanic Garden! Learn about Monarch butterflies and the plants that pollinators love. \nFree and fun for kids or adults! \nStop by the Fall Plant Sale afterwards to get your pollinator plants! \nLocated in the Grove area. Park in Lot D off the I-30 access road just before Montgomery. The parking lot and entrance is behind the Montgomery Antique Mall.
URL:https://savetarrantwater.com/event/fort-worth-monarch-celebration/
LOCATION:Fort Worth Botanic Gardens\, 3220 Botanic Garden Blvd\, Fort Worth\, TX\, 76107\, United States
ATTACH;FMTTYPE=image/png:https://savetarrantwater.com/wp-content/uploads/2022/09/Monarch-Fest-October-2022-Social-Media-1.png
END:VEVENT
BEGIN:VEVENT
DTSTART;TZID=America/Chicago:20221011T180000
DTEND;TZID=America/Chicago:20221011T190000
DTSTAMP:20260422T122022
CREATED:20220920T173730Z
LAST-MODIFIED:20220920T173730Z
UID:4284-1665511200-1665514800@savetarrantwater.com
SUMMARY:Water Wizardry
DESCRIPTION:You don’t need a magic wand to rid your realm of water waste! \nFree! Register here: https://WaterWizard.eventbrite.com \nLearn water-efficient gardening methods and latest landscaping technology to help you cast a spell of savings on your water bill. \nAttendees will be entered into a drawing to win a free rainwater harvesting barrel! \n  \nDrawing available to Arlington\, Texas residents only. \nThis is a free online event. Register here to receive information on how to participate.  \nThe class will be 45 minutes long and taught by a Tarrant County Master Gardener. \nAfter registering\, check your email for instructions on how to join the live event. \n  \nVisit SaveTarrantWater.com/events to learn about other events like this! \nThis event is brought to you by Arlington Water Utilities and Tarrant Regional Water District.
URL:https://savetarrantwater.com/event/water-wizardry/
LOCATION:Online
ATTACH;FMTTYPE=image/png:https://savetarrantwater.com/wp-content/uploads/2022/09/10.11.2022-Water-Wizardly-Arlington-SM-1.png
END:VEVENT
BEGIN:VEVENT
DTSTART;TZID=America/Chicago:20221015T080000
DTEND;TZID=America/Chicago:20221015T220000
DTSTAMP:20260422T122022
CREATED:20221003T181820Z
LAST-MODIFIED:20221003T211634Z
UID:4315-1665820800-1665871200@savetarrantwater.com
SUMMARY:Lake Arlington Garden BioSurvey
DESCRIPTION:Arlington Water Utilities and Tarrant Regional Water District have partnered to create a native plant demonstration garden with 2\,000 sq. ft. of flowering native perennials and grasses on city-owned land adjacent to the Lake Arlington Dam. We will be seeding a native wildflower meadow in the surrounding 3 acres in November. In an effort to understand the impacts of these projects on local wildlife\, we would love your help documenting existing biodiversity on the site.* We are hosting our 2nd annual biosurvey on Saturday\, Oct. 15th from 8am to 10pm. Please sign up to help here. Once you register\, we will send you directions to the site\, instructions for entering the gate and signing in\, and a map of the area to explore. \n  \n*The project site is surrounded by low-lying fields with wetland vegetation and bordered by native trees and lake shore.  On the 3 acres around the demonstration garden\, there is a field of low-growing forbs and grasses which are being treated to remove invasive grasses. The site is owned by Arlington Water Utilities and only accessible with permission via a gated entrance.
URL:https://savetarrantwater.com/event/lake-arlington-garden-biosurvey/
LOCATION:Lake Arlington Garden\, 5500 Lake Arlington Drive\, Arlington\, TX\, 76013\, United States
ATTACH;FMTTYPE=image/png:https://savetarrantwater.com/wp-content/uploads/2022/10/LAG-Biosurvey-1.png
END:VEVENT
BEGIN:VEVENT
DTSTART;TZID=America/Chicago:20221018T190000
DTEND;TZID=America/Chicago:20221018T200000
DTSTAMP:20260422T122022
CREATED:20221012T191739Z
LAST-MODIFIED:20221012T192252Z
UID:4339-1666119600-1666123200@savetarrantwater.com
SUMMARY:Rain Gardens
DESCRIPTION:This class is part of the Tarrant County Master Gardeners Virtual Gardening Series. \nRegister Here: Meeting Registration – Zoom \nClasses are FREE and are presented virtually through Zoom beginning at 7:00 pm central time. \nPre-registration is required. To register\, click on the link for the class you are interested in joining.\nYou will receive a confirmation email with information about joining the class. \n  \nFor questions or more information\, contact: TCmastergardener1801@gmail.com
URL:https://savetarrantwater.com/event/rain-gardens/
LOCATION:Online
ATTACH;FMTTYPE=image/png:https://savetarrantwater.com/wp-content/uploads/2022/10/10.18.2022-Rain-Gardens-TCMGA-SM.png
END:VEVENT
BEGIN:VEVENT
DTSTART;TZID=America/Chicago:20221022T100000
DTEND;TZID=America/Chicago:20221022T120000
DTSTAMP:20260422T122022
CREATED:20221003T213815Z
LAST-MODIFIED:20221012T192423Z
UID:4319-1666432800-1666440000@savetarrantwater.com
SUMMARY:Winter Preparedness Part I
DESCRIPTION:Part I covers How to Winterize Your Landscape \nThe Earth-Kind Program emphasizes the use of environmentally friendly management practices for landscape design and maintenance. The goals are to conserve water\, energy\, and reduce\nthe use of pesticides and fertilizers while producing beautiful landscapes. \nClasses are free\, but registration is required. Register here: https://docs.google.com/forms/d/e/1FAIpQLSfTDSKObDfvEQNsRBCCjeqrmgdxpB8tDlfXuyOl7p-c7aiBSg/viewform \nTarrant County Master Gardeners are providing Earth-Kind programs twice a month on Saturdays at the Master Gardener Demo Gardens. Please Join us at 1801 Circle Dr. Fort Worth\, TX 76119 from 10am-12pm. \nThe Earth-Kind Class Series is provided by Texas A&M AgriLife Extension and the Tarrant County Master Gardener Association.
URL:https://savetarrantwater.com/event/winter-preparedness/
LOCATION:Water Works Learning Center\, 1801 Circle Drive\, Fort Worth\, TX\, 76119\, United States
ATTACH;FMTTYPE=image/png:https://savetarrantwater.com/wp-content/uploads/2022/10/Earthkind-Fall-Image.png
END:VEVENT
BEGIN:VEVENT
DTSTART;TZID=America/Chicago:20221025T190000
DTEND;TZID=America/Chicago:20221025T200000
DTSTAMP:20260422T122022
CREATED:20221012T192203Z
LAST-MODIFIED:20221012T192203Z
UID:4343-1666724400-1666728000@savetarrantwater.com
SUMMARY:Master Tree Plan - Part I
DESCRIPTION:This class is part of the Tarrant County Master Gardeners Virtual Gardening Series. \nRegister Here: Meeting Registration – Zoom \nClasses are FREE and are presented virtually through Zoom beginning at 7:00 pm central time. \nPre-registration is required. To register\, click on the link for the class you are interested in joining.\nYou will receive a confirmation email with information about joining the class. \n  \nFor questions or more information\, contact: TCmastergardener1801@gmail.com
URL:https://savetarrantwater.com/event/4343/
LOCATION:Online
ATTACH;FMTTYPE=image/png:https://savetarrantwater.com/wp-content/uploads/2022/10/10.25.2022-Master-Tree-Plan-TCMGA-SM.png
END:VEVENT
BEGIN:VEVENT
DTSTART;TZID=America/Chicago:20221103T180000
DTEND;TZID=America/Chicago:20221103T190000
DTSTAMP:20260422T122022
CREATED:20221003T154042Z
LAST-MODIFIED:20221003T154042Z
UID:4312-1667498400-1667502000@savetarrantwater.com
SUMMARY:Texas Trees
DESCRIPTION:Fall is the perfect time to plant a tree! \nJoin our free online class to learn about the best trees for North Texas homes! \nRegister here: https://TreesNRH.eventbrite.com \nTrees can be amazingly beautiful and create a focal point for our home landscapes. There is such a wide variety of trees\, it can be hard to determine which type to plant. Learn which trees work best for your North Texas home landscape. Since trees get so large and are long-lived\, it is important to plant the right tree in the right spot. Learn about the right types of trees to plant for different situations and landscapes. \nTrees provide beauty and much needed shade in our hot North Texas summers. Planting a tree can provide a habitat for birds\, reduce the temperature of your house\, and maybe even produce fruit. Attend our class to learn about planting a tree today and give a gift to future generations. \nJust in time for Arbor Day! \nThis is a free online event. Register here to receive information on how to participate.  \nThe class will be 1 hour long and taught by a Tarrant County Master Gardener. \nStick around after the presentation for a live Q+A session. \n  \nAfter registering\, check your email for instructions on how to join the live event. \n  \nThis event is brought to you by North Richland Hills and Tarrant Regional Water District.
URL:https://savetarrantwater.com/event/texas-trees/
LOCATION:Online
ATTACH;FMTTYPE=image/png:https://savetarrantwater.com/wp-content/uploads/2022/10/11.3.2022-Texas-Trees-NRH-SM.png
END:VEVENT
BEGIN:VEVENT
DTSTART;TZID=America/Chicago:20221105T103000
DTEND;TZID=America/Chicago:20221105T113000
DTSTAMP:20260422T122022
CREATED:20221012T193535Z
LAST-MODIFIED:20221012T193535Z
UID:4349-1667644200-1667647800@savetarrantwater.com
SUMMARY:DIY Rainwater Harvesting - Haltom City
DESCRIPTION:Capture water while it is raining to use on your landscape later! \nJoin the workshop to learn the basics of DIY Rainwater Harvesting and build your own barrel to take home! \nRegister here: https://HCRain.eventbrite.com \nRainwater harvesting is great for North Texas because you can keep some of the rain we get during the spring and fall to use during our hot and dry summers. Even a small roof area can produce a usable amount of water during an average rainfall. From huge cisterns to small DIY barrels\, capturing rainwater can be done by anyone. \nLearn about: \n\nHow much water your roof will produce in a year\nWhere to put your rain barrel to capture the most water\nHow to install a barrel\nHow to hook up and use your new water source\nHow to build your own 50 gallon rain barrel with just a few supplies from the hardware store\n\nHaltom City\, Texas Residents: Register for the workshop to build a rain barrel to take home for only $25! \nThis workshop is in-person and includes a class about rainwater harvesting basics and a demonstration on how to build a barrel. After the class portion\, you will get to build their own rain barrel to take home.  \n  \nThis Workshop is for Haltom City\, Texas Residents Only. \nMore info on registration page.
URL:https://savetarrantwater.com/event/diy-rainwater-harvesting-haltom-city/
LOCATION:Haltom City Senior Center\, 3201 Friendly Ln\, Haltom City\, TX\, 76117\, United States
ATTACH;FMTTYPE=image/png:https://savetarrantwater.com/wp-content/uploads/2022/10/11.5.2022-DIY-RWH-Haltom-City-SM.png
END:VEVENT
END:VCALENDAR