BEGIN:VCALENDAR
VERSION:2.0
PRODID:-//Save Tarrant Water - ECPv5.2.0//NONSGML v1.0//EN
CALSCALE:GREGORIAN
METHOD:PUBLISH
X-WR-CALNAME:Save Tarrant Water
X-ORIGINAL-URL:https://savetarrantwater.com
X-WR-CALDESC:Events for Save Tarrant Water
BEGIN:VTIMEZONE
TZID:America/Chicago
BEGIN:DAYLIGHT
TZOFFSETFROM:-0600
TZOFFSETTO:-0500
TZNAME:CDT
DTSTART:20220313T080000
END:DAYLIGHT
BEGIN:STANDARD
TZOFFSETFROM:-0500
TZOFFSETTO:-0600
TZNAME:CST
DTSTART:20221106T070000
END:STANDARD
END:VTIMEZONE
BEGIN:VEVENT
DTSTART;TZID=America/Chicago:20220904T080000
DTEND;TZID=America/Chicago:20220910T180000
DTSTAMP:20260422T133328
CREATED:20220905T014921Z
LAST-MODIFIED:20220905T014921Z
UID:4061-1662278400-1662832800@savetarrantwater.com
SUMMARY:Gardening for Pollinators
DESCRIPTION:Add life and color to your yard by creating a pollinator garden! \nFree! Register here: https://pollygarden.eventbrite.com \nLearn about the best plants to plant and features to install to attract butterflies\, bees\, and birds to your North Texas yard. \nLearn about: \n\nThe types of plants to plant to attract the type of pollinators you want\nThe types of features to add to attract the type of pollinators you want\nHow to design your pollinator garden\nHow to find the correct plants for North Texas\nCreating an efficient\, low resource use garden\nSoil amendments and site prep\nLong term pollinator garden maintenance\n\nGet ideas and inspiration to create an outstanding feature in your North Texas yard! \n  \nThis class will be available live online on August 30 at 6pm\, then available to watch as an on-demand video September 4-10. Watch live to get your questions answered or watch the recording on your own time – your choice! \nAttend this virtual class to get a $25 rebate on your Go N Grow Pollinator or Shade Garden purchase! Check your email after attending either the live or the on-demand class to learn how! Don’t wait to get your garden! Once they are gone\, they are gone until next spring!  \nRebate available to Tarrant County residents only. One rebate per household or order number. \nThis is a free online event. Everyone who registers will get links to the live class and the recording. \n  \nThis event is brought to you by Arlington Water Utilities\, Mansfield Water Utilities\, North Richland Hills\, and Tarrant Regional Water District.
URL:https://savetarrantwater.com/event/gardening-for-pollinators-3/
LOCATION:Online
ATTACH;FMTTYPE=image/png:https://savetarrantwater.com/wp-content/uploads/2022/09/8.30-and-9.4-9.10.2022-Gardening-for-Pollinators-Go-N-Grow-Rebate-SM.png
END:VEVENT
BEGIN:VEVENT
DTSTART;TZID=America/Chicago:20220906T180000
DTEND;TZID=America/Chicago:20220906T190000
DTSTAMP:20260422T133328
CREATED:20220615T051245Z
LAST-MODIFIED:20220615T051245Z
UID:3931-1662487200-1662490800@savetarrantwater.com
SUMMARY:DIY Sprinkler Savings
DESCRIPTION:Your home sprinkler system doesn’t have to be confusing! \nJoin our free online class to learn about the basics of your home sprinkler system! \nRegister here: https://SeptDIYSave.eventbrite.com \n  \nAttend this free workshop to learn more about \n\nAll the parts of a typical home sprinkler system\nHow to determine how much water your system uses\nHow to program your controller\nHow to adjust heads and maintain your system\nHow to check your system for leaks\nHow to see if your system has uneven coverage\n\nThis is a free online event. Register to receive information on how to participate.  \nThe class will be 1 hour long and taught by irrigation expert Dr. Dotty Woodson. \nStick around after the presentation for a live Q+A session.
URL:https://savetarrantwater.com/event/diy-sprinkler-savings-3/
LOCATION:Online
ATTACH;FMTTYPE=image/png:https://savetarrantwater.com/wp-content/uploads/2022/06/9.6.2022-DIY-Sprinkler-Savings-SM.png
END:VEVENT
BEGIN:VEVENT
DTSTART;TZID=America/Chicago:20220910T080000
DTEND;TZID=America/Chicago:20220910T110000
DTSTAMP:20260422T133328
CREATED:20220905T144124Z
LAST-MODIFIED:20220905T144124Z
UID:4073-1662796800-1662807600@savetarrantwater.com
SUMMARY:Why Native Plants?
DESCRIPTION:This class is in conjunction with a Lake Arlington Native Plant and Pollinator Garden volunteer day. Come learn about Tough Texas Native Plants in the garden\, then stick around to get hands on experience with maintaining a native plant garden! Volunteer time is from 8am to 11am and the class will be held at 9am. \nLearn more here: https://www.arlingtontx.gov/city_hall/departments/water_utilities/knowledge_center/water_conservation 
URL:https://savetarrantwater.com/event/why-native-plants/
LOCATION:Lake Arlington Garden\, 5500 Lake Arlington Drive\, Arlington\, TX\, 76013\, United States
ATTACH;FMTTYPE=image/png:https://savetarrantwater.com/wp-content/uploads/2022/09/9.10.2022-Why-Native-Plants-and-LAG-day.png
END:VEVENT
BEGIN:VEVENT
DTSTART;TZID=America/Chicago:20220910T180000
DTEND;TZID=America/Chicago:20220917T080000
DTSTAMP:20260422T133328
CREATED:20220905T015334Z
LAST-MODIFIED:20220905T015334Z
UID:4064-1662832800-1663401600@savetarrantwater.com
SUMMARY:DIY Rainwater Harvesting
DESCRIPTION:Capture water while it is raining this spring to use on your landscape later! \nJoin our free online class to learn how! Then\, purchase a discounted rain barrel to take home! \nhttps://TarrantRWH.eventbrite.com \nRainwater harvesting is great for North Texas because you can keep some of the rain we get during the spring and fall to use during our hot and dry summers. Even a small roof area can produce a usable amount of water during an average rainfall. From huge cisterns to small DIY barrels\, capturing rainwater can be done by anyone. \nAttend this workshop to learn the ins and outs of rainwater harvesting and purchase a discounted barrel to take home! \nLearn about: \n\nHow much water your roof will produce in a year\nWhere to put your rain barrel to capture the most water\nHow to install a barrel\nHow to hook up and use your new water source\nHow to build your own 50 gallon rain barrel with just a few supplies from the hardware store\n\n  \nThis is a free online event\, with an optional purchase. The online workshop will be available on-demand April 2-8. Register here to receive information on how to participate. \nThe workshop will be 45 minutes long and taught by Theresa Thomas and Claire Alford\, Tarrant County Master Gardeners. \nAfter registering\, check your email for instructions on how to join the online event. \nYour registration is not complete until you click the link sent to your email a few days before the event. \n  \nTarrant County Residents: Get a rain barrel for only $25! \nFor Tarrant County\, Texas residents only\, a 50-gallon rain barrel can be purchased for the discounted rate of $25. Barrels will be available for pick up at the Tarrant County Resource Connection\, Fort Worth\, Texas from 8am to 11am on April 9th. \nThere are two options for this event. Please be sure to select the registration type that corresponds with your choice. \nFree registration: Get access to the online workshop only. You will get access to the online presentation about rainwater harvesting and the DIY rain barrel building\, but will not get a rain barrel to take home. \n$25 registration: Get access to the online workshop and take home a rain barrel. You will get access to the online presentation about rainwater harvesting and the DIY rain barrel building demonstration\, and a rain barrel will be reserved for pick up on April 9th. There are a limited number of barrels available\, so register now to reserve yours! \n  \nAttending the workshop is a requirement to get the barrel discount! You must have watched the online workshop to receive your barrel. This is an educational opportunity and the discounted barrel is only being offered as part of the educational workshop. \nRain barrel information: These rain barrels are discounted from $50 to $25. Barrels are 50 gallons and made from previously used food safe storage containers. The barrels will vary in color and will probably be blue\, but could also be white or black. You do not get to choose your barrel color. The barrels have been assembled by the Tarrant County Master Gardeners in the same fashion as demonstrated in the online workshop. Approximate dimensions are 35 inches tall by 24 inches diameter. \nPick up information: Barrels will be available for pick up for those who register at Tarrant County Resource Connection\, 1801 Circle Drive\, Fort Worth\, Texas from 8am to 11am on April 9th. Check your email after purchase for more information. \nPick up will be contactless and you will be required to load your barrel into your vehicle. \n  \nAny orders that do not comply with restrictions may be cancelled at TRWD’s discretion. Barrels that are not picked up will be donated. \n  \nPick up your Go N Grow Garden at the same time and location! \nPurchase a Native Plant Garden or Edible Plant Garden and pick it up at the same time and location as your rain barrel. \nTexas Tough Native Garden https://rootedin.com/product/texas-tough-native-garden/ \nHome Harvest Edible Garden https://rootedin.com/product/home-harvest-edible-garden/ \n  \n  \nThis event is brought to you by Tarrant Regional Water District.
URL:https://savetarrantwater.com/event/diy-rainwater-harvesting-4/
LOCATION:Online
ATTACH;FMTTYPE=image/png:https://savetarrantwater.com/wp-content/uploads/2022/09/9.10-17.2022-DIY-RWH-Tarrant-SM.png
END:VEVENT
BEGIN:VEVENT
DTSTART;TZID=America/Chicago:20220915T180000
DTEND;TZID=America/Chicago:20220915T193000
DTSTAMP:20260422T133328
CREATED:20220905T015657Z
LAST-MODIFIED:20220905T015657Z
UID:4067-1663264800-1663270200@savetarrantwater.com
SUMMARY:DIY Sprinkler Repair
DESCRIPTION:Sprinklers have been working all summer and if you haven’t checked out your sprinkler system lately\, there might be some issues that are easily fixed. \nJoin our free class to learn how to DIY! \nhttps://NRHSprink.eventbrite.com \nLearn all about the basics of your home sprinkler system\, then walk through common breaks and sources of inefficiency\, and learn how to fix them all with minimal tools and time. \nAttend this free class to learn more about \n\nHow to check your system for leaks\nDifferent parts that may need to be replaced\nHow to know what needs to be fixed\nHow to make easy DIY repairs\n\nAttend this class to take home a free sprinkler test kit. \nThis class will be at the North Richland Hills Library. Registration is required. \nThe class will be 45 minutes long and taught by Dr. Dotty Woodson\, irrigation expert. \n  \nThis event is brought to you by North Richland Hills and Tarrant Regional Water District.
URL:https://savetarrantwater.com/event/diy-sprinkler-repair-7/
LOCATION:North Richland Hills Library\, 9015 Grand Ave\, North Richland Hills\, TX\, 76180\, United States
ATTACH;FMTTYPE=image/png:https://savetarrantwater.com/wp-content/uploads/2022/09/9.15.2022-DIY-Sprinkler-Repair-NRH-SM.png
END:VEVENT
BEGIN:VEVENT
DTSTART;TZID=America/Chicago:20220920T180000
DTEND;TZID=America/Chicago:20220920T190000
DTSTAMP:20260422T133328
CREATED:20220615T051403Z
LAST-MODIFIED:20220615T051403Z
UID:3933-1663696800-1663700400@savetarrantwater.com
SUMMARY:DIY Drip Irrigation
DESCRIPTION:Have you been thinking about converting to drip irrigation\, but don’t know where to start? \nIt’s easier than you think! \nJoin our free in person class to learn how to set up your yard with drip irrigation! \nRegister here: https://SeptDIYDrip.eventbrite.com \nDrip irrigation allows water to slowly seep into the soil\, giving your plants a more thorough watering\, all while using less water. Walk through the ins and outs of drip irrigation\, then learn how to easily convert your existing home sprinklers to drip. \nAttend this free workshop to learn more about \n\nAll the parts of a typical home sprinkler system and a drip system\nHow to determine how much water your system uses\nHow to program your controller\nHow to switch out your heads for drip\nHow to install your drip lines\nHow to make easy DIY repairs\nHow to change your watering techniques to use your new drip system\n\nThis is a free in person event. Register here to receive information on how to participate.  \nThe class will be 1 hour long and taught by Dr. Dotty Woodson\, irrigation expert.
URL:https://savetarrantwater.com/event/diy-drip-irrigation-3/
LOCATION:Online
ATTACH;FMTTYPE=image/png:https://savetarrantwater.com/wp-content/uploads/2022/06/9.20.2022-DIY-Drip-Irrigation-SM.png
END:VEVENT
BEGIN:VEVENT
DTSTART;TZID=America/Chicago:20220925T180000
DTEND;TZID=America/Chicago:20221001T180000
DTSTAMP:20260422T133328
CREATED:20220905T020031Z
LAST-MODIFIED:20220905T020031Z
UID:4070-1664128800-1664647200@savetarrantwater.com
SUMMARY:Backyard Composting
DESCRIPTION:Turn yard and kitchen scraps into lush compost to use in your garden! \nFree! Register here: https://youcompost.eventbrite.com \n  \nComposting at home can reduce waste sent to the landfill and create soil amendments for a heathy landscape. Compost piles can be made in a variety of ways and be maintained for different purposes. \nLearn about: \n\nBenefits of composting\nDesigning a pile\nContainer options\nEffective methods to yield high-quality compost\nHow and when to use it\n\nThis is a free online event. Register to receive information on how to participate.  \nThe class will be 45 minutes long. \nAfter registering\, check your email for instructions on how to join the on-demand class. \n  \nThis event is brought to you by Mansfield Water Utilities and Tarrant Regional Water District.
URL:https://savetarrantwater.com/event/backyard-composting-8/
LOCATION:Online
ATTACH;FMTTYPE=image/png:https://savetarrantwater.com/wp-content/uploads/2022/09/9.25-10.1.2022-Backyard-Composting-Mansfield-SM.png
END:VEVENT
END:VCALENDAR