BEGIN:VCALENDAR
VERSION:2.0
PRODID:-//Save Tarrant Water - ECPv5.2.0//NONSGML v1.0//EN
CALSCALE:GREGORIAN
METHOD:PUBLISH
X-WR-CALNAME:Save Tarrant Water
X-ORIGINAL-URL:https://savetarrantwater.com
X-WR-CALDESC:Events for Save Tarrant Water
BEGIN:VTIMEZONE
TZID:America/Chicago
BEGIN:DAYLIGHT
TZOFFSETFROM:-0600
TZOFFSETTO:-0500
TZNAME:CDT
DTSTART:20210314T080000
END:DAYLIGHT
BEGIN:STANDARD
TZOFFSETFROM:-0500
TZOFFSETTO:-0600
TZNAME:CST
DTSTART:20211107T070000
END:STANDARD
END:VTIMEZONE
BEGIN:VEVENT
DTSTART;TZID=America/Chicago:20210617T180000
DTEND;TZID=America/Chicago:20210617T190000
DTSTAMP:20260420T041134
CREATED:20210521T204142Z
LAST-MODIFIED:20210521T204142Z
UID:2840-1623952800-1623956400@savetarrantwater.com
SUMMARY:Tough Plants for North Texas
DESCRIPTION:Have the most beautiful yard on the block with little effort! \n  \nFree! Register here: https://ntxtoughplants.eventbrite.com \n  \nThe climate in North Texas can be harsh for some plants\, but lush home landscapes can be created using the right plants. Attend this class to walk through a variety of plants well suited for North Texas and learn what conditions to plant them in. Planting native and adapted plants like these can reduce maintenance time and resource use in comparison to traditional landscaping plants. \nLearn about: \n\nHow to take into account the needs and characteristics of your landscape\nThe best types of plants to plant for various situations\nPlants that need less water and maintenance\nHow to maintain native and adapted plants\n\n  \nThis is a free online event. Register here to receive information on how to participate. Register even if you can’t attend during the event to get access to the recording afterwards. \nThe class will be 1 hour long and taught by a Tarrant County Master Gardener. \nStick around after the presentation for a live Q+A session. \n  \nAfter registering\, check your email for instructions on how to join the live event. \nYour registration is not complete until you click the link sent to your email a few days before the event. \n  \nThis event is brought to you by North Richland Hills and Tarrant Regional Water District.
URL:https://savetarrantwater.com/event/tough-plants-for-north-texas/
LOCATION:Online
ATTACH;FMTTYPE=image/png:https://savetarrantwater.com/wp-content/uploads/2021/05/6.17.2021-Tough-Plants-for-North-Texas-NRH-SM.png
END:VEVENT
END:VCALENDAR