BEGIN:VCALENDAR
VERSION:2.0
PRODID:-//Save Tarrant Water - ECPv5.2.0//NONSGML v1.0//EN
CALSCALE:GREGORIAN
METHOD:PUBLISH
X-WR-CALNAME:Save Tarrant Water
X-ORIGINAL-URL:https://savetarrantwater.com
X-WR-CALDESC:Events for Save Tarrant Water
BEGIN:VTIMEZONE
TZID:America/Chicago
BEGIN:DAYLIGHT
TZOFFSETFROM:-0600
TZOFFSETTO:-0500
TZNAME:CDT
DTSTART:20210314T080000
END:DAYLIGHT
BEGIN:STANDARD
TZOFFSETFROM:-0500
TZOFFSETTO:-0600
TZNAME:CST
DTSTART:20211107T070000
END:STANDARD
END:VTIMEZONE
BEGIN:VEVENT
DTSTART;TZID=America/Chicago:20210619T121500
DTEND;TZID=America/Chicago:20210619T130000
DTSTAMP:20260420T041055
CREATED:20210521T204426Z
LAST-MODIFIED:20210521T204426Z
UID:2842-1624104900-1624107600@savetarrantwater.com
SUMMARY:Backyard Composting
DESCRIPTION:Turn yard and kitchen scraps into lush compost to use in your garden! \nFree! Register here: https://backyardcompostwatauga.eventbrite.com \nComposting at home can reduce waste sent to the landfill and create soil amendments for a heathy landscape. Compost piles can be made in a variety of ways and be maintained for different purposes. \nLearn about: \n\nBenefits of composting\nDesigning a pile\nContainer options\nEffective methods to yield high-quality compost\nHow and when to use it\n\n  \nThis is a free online event. Register here to receive information on how to participate. Register even if you can’t attend during the event to get access to the recording afterwards. \nThe class will be 1 hour long and taught by a Tarrant County Master Gardener. \nStick around after the presentation for a live Q+A session. \n  \nAfter registering\, check your email for instructions on how to join the live event. \nYour registration is not complete until you click the link sent to your email a few days before the event. \n  \nThis event is brought to you by Watauga and Tarrant Regional Water District.
URL:https://savetarrantwater.com/event/backyard-composting-2/
LOCATION:Online
ATTACH;FMTTYPE=image/png:https://savetarrantwater.com/wp-content/uploads/2021/05/6.19.2021-Backyard-Composting-Watauga-SM.png
END:VEVENT
END:VCALENDAR